{"text_format":"1","workbook":"xlsx","n_sheets":1,"sheets":["ACTA PREVIA"],"not_rendered":{"charts":0,"images":0,"macros":0,"external_links":1,"defined_names":6,"comments":0,"pivot_tables":0},"unopened":[],"bounds":{"document_bytes":16777216,"sheet_cells":100000,"rows_first":2000,"rows_last":500,"rows_between":2000,"halvings":0,"cell_chars":16384,"cell_head_chars":4096},"cells_cut":0,"cells_raw":0,"read":"whole","date_system":"1900"}

{"sheet":"ACTA PREVIA","index":0,"n_rows":254,"n_cols":16,"rows_kept":254,"cut":false,"hidden":false,"merged":[[30,4,31,4],[0,0,0,15],[1,0,1,15],[10,4,11,4],[12,4,13,4],[16,4,17,4],[4,4,5,4],[6,4,7,4],[14,4,15,4],[8,4,9,4]]}
[{"$f":"[1]ETIQUETAS!A1","v":"XVIII CAMPEONATO DE PAREJAS DE ANDALUCIA"}]
[{"$f":"CONCATENATE([1]ETIQUETAS!A2,\" \",[1]ETIQUETAS!A3)","v":"Galactic Bowling Dos Hermanas del 20 al 27 de enero 2019"}]
[]
["PISTAS","COD","CARNÉ","PAREJA",null,"JUGADORES","HAND","1ª PT","2ª PT","3ª PT","4ª PT","5ª PT","6ª PT","TOTAL","T HAND","T PAREJA"]
[6,{"$f":"'[1]ENTRADA PARTIDAS'!B10","v":5},{"$f":"'[1]ENTRADA PARTIDAS'!C10","v":769},{"$f":"'[1]ENTRADA PARTIDAS'!H10","v":"Pareja 3"},1,"GARCIA PRADO, Lola",26,168,177,126,171,142,144,{"$f":"SUM(H5:M5)","v":928},{"$f":"N5+COUNT(H5:M5)*G5","v":1084},{"$f":"SUM(O5:O6)","v":2327}]
[6,{"$f":"'[1]ENTRADA PARTIDAS'!B11","v":6},{"$f":"'[1]ENTRADA PARTIDAS'!C11","v":2322},{"$f":"'[1]ENTRADA PARTIDAS'!H11","v":"Pareja 3"},null,"GARCIA PRADO, Pedro ",15,203,143,236,179,203,189,1153,1243]
[7,{"$f":"'[1]ENTRADA PARTIDAS'!B14","v":9},{"$f":"'[1]ENTRADA PARTIDAS'!C14","v":3623},{"$f":"'[1]ENTRADA PARTIDAS'!H14","v":"Pareja 5"},5,{"$f":"'[1]ENTRADA PARTIDAS'!F14","v":"JIMENEZ GARRIDO, Valentín"},{"$f":"'[1]ENTRADA PARTIDAS'!G14","v":28},151,183,167,165,155,138,959,1127,{"$f":"SUM(O7:O8)","v":2161}]
[7,{"$f":"'[1]ENTRADA PARTIDAS'!B15","v":10},{"$f":"'[1]ENTRADA PARTIDAS'!C15","v":3624},{"$f":"'[1]ENTRADA PARTIDAS'!H15","v":"Pareja 5"},null,{"$f":"'[1]ENTRADA PARTIDAS'!F15","v":"COLORADO GOMEZ, José María"},{"$f":"'[1]ENTRADA PARTIDAS'!G15","v":30},164,155,128,136,134,137,854,1034]
[8,{"$f":"'[1]ENTRADA PARTIDAS'!B16","v":11},{"$f":"'[1]ENTRADA PARTIDAS'!C16","v":3625},{"$f":"'[1]ENTRADA PARTIDAS'!H16","v":"Pareja 6"},2,"LOZANO ORTIZ, Carmen",13,191,189,147,155,154,152,988,1066,{"$f":"SUM(O9:O10)","v":2228}]
[8,{"$f":"'[1]ENTRADA PARTIDAS'!B17","v":12},{"$f":"'[1]ENTRADA PARTIDAS'!C17","v":3626},{"$f":"'[1]ENTRADA PARTIDAS'!H17","v":"Pareja 6"},null,"CARRASCO CRIADO, Francisco",12,169,171,202,176,151,221,1090,1162]
[9,{"$f":"'[1]ENTRADA PARTIDAS'!B12","v":7},{"$f":"'[1]ENTRADA PARTIDAS'!C12","v":400},{"$f":"'[1]ENTRADA PARTIDAS'!H12","v":"Pareja 4"},3,"GUTIERREZ ROMERO,  Isabel Maria",21,174,210,170,145,144,169,1012,1138,{"$f":"SUM(O11:O12)","v":2209}]
[9,{"$f":"'[1]ENTRADA PARTIDAS'!B13","v":8},{"$f":"'[1]ENTRADA PARTIDAS'!C13","v":1198},{"$f":"'[1]ENTRADA PARTIDAS'!H13","v":"Pareja 4"},null,"GANFORNINA CABALLERO, José A.",20,162,167,172,137,137,176,951,1071]
[10,{"$f":"'[1]ENTRADA PARTIDAS'!B6","v":1},{"$f":"'[1]ENTRADA PARTIDAS'!C6","v":51},{"$f":"'[1]ENTRADA PARTIDAS'!H6","v":"Pareja 1"},4,"ESPINOSA ROSA, Miguel Angel ",18,158,148,171,156,170,145,948,1056,{"$f":"SUM(O13:O14)","v":2162}]
[10,{"$f":"'[1]ENTRADA PARTIDAS'!B7","v":2},{"$f":"'[1]ENTRADA PARTIDAS'!C7","v":2436},{"$f":"'[1]ENTRADA PARTIDAS'!H7","v":"Pareja 1"},null,"FERNANDEZ TOJEIRO, Juan José ",5,156,189,168,205,204,154,1076,1106]
[11,{"$f":"'[1]ENTRADA PARTIDAS'!B8","v":3},{"$f":"'[1]ENTRADA PARTIDAS'!C8","v":2844},{"$f":"'[1]ENTRADA PARTIDAS'!H8","v":"Pareja 2"},5,"JIMENEZ GARRIDO, Valentín",28,151,183,167,165,155,138,959,1127,{"$f":"SUM(O15:O16)","v":2161}]
[11,{"$f":"'[1]ENTRADA PARTIDAS'!B9","v":4},{"$f":"'[1]ENTRADA PARTIDAS'!C9","v":497},{"$f":"'[1]ENTRADA PARTIDAS'!H9","v":"Pareja 2"},null,"COLORADO GOMEZ, José María",30,164,155,128,136,134,137,854,1034]
[12,{"$f":"'[1]ENTRADA PARTIDAS'!B30","v":25},{"$f":"'[1]ENTRADA PARTIDAS'!C30","v":1899},{"$f":"'[1]ENTRADA PARTIDAS'!H30","v":"Pareja 7"},6,"ESPINOSA ACUÑA, Laura",16,133,145,202,156,188,170,994,1090,{"$f":"SUM(O17:O18)","v":2155}]
[12,{"$f":"'[1]ENTRADA PARTIDAS'!B31","v":26},{"$f":"'[1]ENTRADA PARTIDAS'!C31","v":1898},{"$f":"'[1]ENTRADA PARTIDAS'!H31","v":"Pareja 7"},null,"ACUÑA COLON, María Del Mar",26,137,146,147,177,167,135,909,1065]
[null,{"$f":"'[1]ENTRADA PARTIDAS'!B18","v":13},{"$f":"'[1]ENTRADA PARTIDAS'!C18","v":1079},{"$f":"'[1]ENTRADA PARTIDAS'!H18","v":"Pareja 13"},null,{"$f":"'[1]ENTRADA PARTIDAS'!F18","v":"MINGORANCE BENAVENTE, José Mª"},{"$f":"'[1]ENTRADA PARTIDAS'!G18","v":18},null,null,null,null,null,null,0,0,{"$f":"SUM(O19:O20)","v":{"$error":"#VALUE!"}}]
[null,{"$f":"'[1]ENTRADA PARTIDAS'!B19","v":14},{"$f":"'[1]ENTRADA PARTIDAS'!C19","v":3091},{"$f":"'[1]ENTRADA PARTIDAS'!H19","v":"Pareja 13"},null,{"$f":"'[1]ENTRADA PARTIDAS'!F19","v":"DEAÑO PEREA, José"},{"$f":"'[1]ENTRADA PARTIDAS'!G19","v":"S/H"},null,null,null,null,null,null,0,{"$error":"#VALUE!"}]
[null,{"$f":"'[1]ENTRADA PARTIDAS'!B20","v":15},{"$f":"'[1]ENTRADA PARTIDAS'!C20","v":2931},{"$f":"'[1]ENTRADA PARTIDAS'!H20","v":"Pareja 8"},null,{"$f":"'[1]ENTRADA PARTIDAS'!F20","v":"SÁNCHEZ LOHAISA , Eladio"},{"$f":"'[1]ENTRADA PARTIDAS'!G20","v":"S/H"},null,null,null,null,null,null,0,{"$error":"#VALUE!"},{"$f":"SUM(O21:O22)","v":{"$error":"#VALUE!"}}]
[null,{"$f":"'[1]ENTRADA PARTIDAS'!B21","v":16},{"$f":"'[1]ENTRADA PARTIDAS'!C21","v":2928},{"$f":"'[1]ENTRADA PARTIDAS'!H21","v":"Pareja 8"},null,{"$f":"'[1]ENTRADA PARTIDAS'!F21","v":"SOTO ACOSTA-GALVAN, Mateo"},{"$f":"'[1]ENTRADA PARTIDAS'!G21","v":27},null,null,null,null,null,null,0,0]
[null,{"$f":"'[1]ENTRADA PARTIDAS'!B22","v":17},{"$f":"'[1]ENTRADA PARTIDAS'!C22","v":1844},{"$f":"'[1]ENTRADA PARTIDAS'!H22","v":"Pareja 9"},null,{"$f":"'[1]ENTRADA PARTIDAS'!F22","v":"MATEO MELERO, Antonia"},{"$f":"'[1]ENTRADA PARTIDAS'!G22","v":23},null,null,null,null,null,null,0,0,{"$f":"SUM(O23:O24)","v":0}]
[null,{"$f":"'[1]ENTRADA PARTIDAS'!B23","v":18},{"$f":"'[1]ENTRADA PARTIDAS'!C23","v":1843},{"$f":"'[1]ENTRADA PARTIDAS'!H23","v":"Pareja 9"},null,{"$f":"'[1]ENTRADA PARTIDAS'!F23","v":"MARTINEZ MEDÍN, Francisco Oscar"},{"$f":"'[1]ENTRADA PARTIDAS'!G23","v":25},null,null,null,null,null,null,0,0]
[null,{"$f":"'[1]ENTRADA PARTIDAS'!B24","v":19},{"$f":"'[1]ENTRADA PARTIDAS'!C24","v":3714},{"$f":"'[1]ENTRADA PARTIDAS'!H24","v":"Pareja 10"},null,{"$f":"'[1]ENTRADA PARTIDAS'!F24","v":"MARTÍNEZ ORTEGA, Miguel Ángel"},{"$f":"'[1]ENTRADA PARTIDAS'!G24","v":"S/H"},null,null,null,null,null,null,0,{"$error":"#VALUE!"},{"$f":"SUM(O25:O26)","v":{"$error":"#VALUE!"}}]
[null,{"$f":"'[1]ENTRADA PARTIDAS'!B25","v":20},{"$f":"'[1]ENTRADA PARTIDAS'!C25","v":3715},{"$f":"'[1]ENTRADA PARTIDAS'!H25","v":"Pareja 10"},null,{"$f":"'[1]ENTRADA PARTIDAS'!F25","v":"BADRETDINOVA, Albina"},{"$f":"'[1]ENTRADA PARTIDAS'!G25","v":"S/H"},null,null,null,null,null,null,0,{"$error":"#VALUE!"}]
[null,{"$f":"'[1]ENTRADA PARTIDAS'!B26","v":21},{"$f":"'[1]ENTRADA PARTIDAS'!C26","v":407},{"$f":"'[1]ENTRADA PARTIDAS'!H26","v":"Pareja 11"},null,{"$f":"'[1]ENTRADA PARTIDAS'!F26","v":"BERNABE RODRIGUEZ, Rafael"},{"$f":"'[1]ENTRADA PARTIDAS'!G26","v":11},null,null,null,null,null,null,0,0,{"$f":"SUM(O27:O28)","v":{"$error":"#VALUE!"}}]
[null,{"$f":"'[1]ENTRADA PARTIDAS'!B27","v":22},{"$f":"'[1]ENTRADA PARTIDAS'!C27","v":3720},{"$f":"'[1]ENTRADA PARTIDAS'!H27","v":"Pareja 11"},null,{"$f":"'[1]ENTRADA PARTIDAS'!F27","v":"VIDAL SERRANO, José Ángel"},{"$f":"'[1]ENTRADA PARTIDAS'!G27","v":"S/H"},null,null,null,null,null,null,0,{"$error":"#VALUE!"}]
[null,{"$f":"'[1]ENTRADA PARTIDAS'!B28","v":23},{"$f":"'[1]ENTRADA PARTIDAS'!C28","v":647},{"$f":"'[1]ENTRADA PARTIDAS'!H28","v":"Pareja 12"},null,{"$f":"'[1]ENTRADA PARTIDAS'!F28","v":"MARTIN MARTIN, José Manuel "},{"$f":"'[1]ENTRADA PARTIDAS'!G28","v":17},null,null,null,null,null,null,0,0,{"$f":"SUM(O29:O30)","v":0}]
[null,{"$f":"'[1]ENTRADA PARTIDAS'!B29","v":24},{"$f":"'[1]ENTRADA PARTIDAS'!C29","v":2888},{"$f":"'[1]ENTRADA PARTIDAS'!H29","v":"Pareja 12"},null,{"$f":"'[1]ENTRADA PARTIDAS'!F29","v":"FINNIS BENTO, Miguel Carlos"},{"$f":"'[1]ENTRADA PARTIDAS'!G29","v":20},null,null,null,null,null,null,0,0]
[null,{"$f":"'[1]ENTRADA PARTIDAS'!B32","v":27},{"$f":"'[1]ENTRADA PARTIDAS'!C32","v":0},{"$f":"'[1]ENTRADA PARTIDAS'!H32","v":"Pareja 14"},7,"JIMENEZ CHAMIZO, Francisco",29,169,145,148,152,170,132,916,1090,{"$f":"SUM(O31:O32)","v":2154}]
[null,{"$f":"'[1]ENTRADA PARTIDAS'!B33","v":28},{"$f":"'[1]ENTRADA PARTIDAS'!C33","v":0},{"$f":"'[1]ENTRADA PARTIDAS'!H33","v":"Pareja 14"},null,"BARDERA SANZ, Miguel Angel",30,191,147,115,157,125,149,884,1064]
[null,{"$f":"'[1]ENTRADA PARTIDAS'!B34","v":29},{"$f":"'[1]ENTRADA PARTIDAS'!C34","v":0},{"$f":"'[1]ENTRADA PARTIDAS'!H34","v":"Pareja 15"},null,{"$f":"'[1]ENTRADA PARTIDAS'!F34","v":""},{"$f":"'[1]ENTRADA PARTIDAS'!G34","v":0},null,null,null,null,null,null,0,0,{"$f":"SUM(O33:O34)","v":0}]
[null,{"$f":"'[1]ENTRADA PARTIDAS'!B35","v":30},{"$f":"'[1]ENTRADA PARTIDAS'!C35","v":0},{"$f":"'[1]ENTRADA PARTIDAS'!H35","v":"Pareja 15"},null,{"$f":"'[1]ENTRADA PARTIDAS'!F35","v":""},{"$f":"'[1]ENTRADA PARTIDAS'!G35","v":0},null,null,null,null,null,null,0,0]
[null,{"$f":"'[1]ENTRADA PARTIDAS'!B36","v":31},{"$f":"'[1]ENTRADA PARTIDAS'!C36","v":0},{"$f":"'[1]ENTRADA PARTIDAS'!H36","v":"Pareja 16"},null,{"$f":"'[1]ENTRADA PARTIDAS'!F36","v":""},{"$f":"'[1]ENTRADA PARTIDAS'!G36","v":0},null,null,null,null,null,null,null,0,{"$f":"SUM(O35:O36)","v":0}]
[null,{"$f":"'[1]ENTRADA PARTIDAS'!B37","v":32},{"$f":"'[1]ENTRADA PARTIDAS'!C37","v":0},{"$f":"'[1]ENTRADA PARTIDAS'!H37","v":"Pareja 16"},null,{"$f":"'[1]ENTRADA PARTIDAS'!F37","v":""},{"$f":"'[1]ENTRADA PARTIDAS'!G37","v":0},null,null,null,null,null,null,{"$f":"SUM(H36:M36)","v":0},0]
[null,{"$f":"'[1]ENTRADA PARTIDAS'!B38","v":33},{"$f":"'[1]ENTRADA PARTIDAS'!C38","v":0},{"$f":"'[1]ENTRADA PARTIDAS'!H38","v":"Pareja 17"},null,{"$f":"'[1]ENTRADA PARTIDAS'!F38","v":""},{"$f":"'[1]ENTRADA PARTIDAS'!G38","v":0},null,null,null,null,null,null,0,0,{"$f":"SUM(O37:O38)","v":0}]
[null,{"$f":"'[1]ENTRADA PARTIDAS'!B39","v":34},{"$f":"'[1]ENTRADA PARTIDAS'!C39","v":0},{"$f":"'[1]ENTRADA PARTIDAS'!H39","v":"Pareja 17"},null,{"$f":"'[1]ENTRADA PARTIDAS'!F39","v":""},{"$f":"'[1]ENTRADA PARTIDAS'!G39","v":0},null,null,null,null,null,null,0,0]
[null,{"$f":"'[1]ENTRADA PARTIDAS'!B40","v":35},{"$f":"'[1]ENTRADA PARTIDAS'!C40","v":0},{"$f":"'[1]ENTRADA PARTIDAS'!H40","v":"Pareja 18"},null,{"$f":"'[1]ENTRADA PARTIDAS'!F40","v":""},{"$f":"'[1]ENTRADA PARTIDAS'!G40","v":0},null,null,null,null,null,null,0,0,{"$f":"SUM(O39:O40)","v":0}]
[null,{"$f":"'[1]ENTRADA PARTIDAS'!B41","v":36},{"$f":"'[1]ENTRADA PARTIDAS'!C41","v":0},{"$f":"'[1]ENTRADA PARTIDAS'!H41","v":"Pareja 18"},null,{"$f":"'[1]ENTRADA PARTIDAS'!F41","v":""},{"$f":"'[1]ENTRADA PARTIDAS'!G41","v":0},null,null,null,null,null,null,0,0]
[null,{"$f":"'[1]ENTRADA PARTIDAS'!B42","v":37},{"$f":"'[1]ENTRADA PARTIDAS'!C42","v":0},{"$f":"'[1]ENTRADA PARTIDAS'!H42","v":"Pareja 19"},null,{"$f":"'[1]ENTRADA PARTIDAS'!F42","v":""},{"$f":"'[1]ENTRADA PARTIDAS'!G42","v":0},null,null,null,null,null,null,0,0,{"$f":"SUM(O41:O42)","v":0}]
[null,{"$f":"'[1]ENTRADA PARTIDAS'!B43","v":38},{"$f":"'[1]ENTRADA PARTIDAS'!C43","v":0},{"$f":"'[1]ENTRADA PARTIDAS'!H43","v":"Pareja 19"},null,{"$f":"'[1]ENTRADA PARTIDAS'!F43","v":""},{"$f":"'[1]ENTRADA PARTIDAS'!G43","v":0},null,null,null,null,null,null,0,0]
[null,{"$f":"'[1]ENTRADA PARTIDAS'!B44","v":39},{"$f":"'[1]ENTRADA PARTIDAS'!C44","v":0},{"$f":"'[1]ENTRADA PARTIDAS'!H44","v":"Pareja 20"},null,{"$f":"'[1]ENTRADA PARTIDAS'!F44","v":""},{"$f":"'[1]ENTRADA PARTIDAS'!G44","v":0},null,null,null,null,null,null,0,0,{"$f":"SUM(O43:O44)","v":0}]
[null,{"$f":"'[1]ENTRADA PARTIDAS'!B45","v":40},{"$f":"'[1]ENTRADA PARTIDAS'!C45","v":0},{"$f":"'[1]ENTRADA PARTIDAS'!H45","v":"Pareja 20"},null,{"$f":"'[1]ENTRADA PARTIDAS'!F45","v":""},{"$f":"'[1]ENTRADA PARTIDAS'!G45","v":0},null,null,null,null,null,null,0,0]
[null,{"$f":"'[1]ENTRADA PARTIDAS'!B46","v":41},{"$f":"'[1]ENTRADA PARTIDAS'!C46","v":0},{"$f":"'[1]ENTRADA PARTIDAS'!H46","v":"Pareja 21"},null,{"$f":"'[1]ENTRADA PARTIDAS'!F46","v":""},{"$f":"'[1]ENTRADA PARTIDAS'!G46","v":0},null,null,null,null,null,null,0,0,{"$f":"SUM(O45:O46)","v":0}]
[null,{"$f":"'[1]ENTRADA PARTIDAS'!B47","v":42},{"$f":"'[1]ENTRADA PARTIDAS'!C47","v":0},{"$f":"'[1]ENTRADA PARTIDAS'!H47","v":"Pareja 21"},null,{"$f":"'[1]ENTRADA PARTIDAS'!F47","v":""},{"$f":"'[1]ENTRADA PARTIDAS'!G47","v":0},null,null,null,null,null,null,0,0]
[null,{"$f":"'[1]ENTRADA PARTIDAS'!B48","v":43},{"$f":"'[1]ENTRADA PARTIDAS'!C48","v":0},{"$f":"'[1]ENTRADA PARTIDAS'!H48","v":"Pareja 22"},null,{"$f":"'[1]ENTRADA PARTIDAS'!F48","v":""},{"$f":"'[1]ENTRADA PARTIDAS'!G48","v":0},null,null,null,null,null,null,0,0,{"$f":"SUM(O47:O48)","v":0}]
[null,{"$f":"'[1]ENTRADA PARTIDAS'!B49","v":44},{"$f":"'[1]ENTRADA PARTIDAS'!C49","v":0},{"$f":"'[1]ENTRADA PARTIDAS'!H49","v":"Pareja 22"},null,{"$f":"'[1]ENTRADA PARTIDAS'!F49","v":""},{"$f":"'[1]ENTRADA PARTIDAS'!G49","v":0},null,null,null,null,null,null,0,0]
[null,{"$f":"'[1]ENTRADA PARTIDAS'!B50","v":45},{"$f":"'[1]ENTRADA PARTIDAS'!C50","v":0},{"$f":"'[1]ENTRADA PARTIDAS'!H50","v":"Pareja 23"},null,{"$f":"'[1]ENTRADA PARTIDAS'!F50","v":""},{"$f":"'[1]ENTRADA PARTIDAS'!G50","v":0},null,null,null,null,null,null,0,0,{"$f":"SUM(O49:O50)","v":0}]
[null,{"$f":"'[1]ENTRADA PARTIDAS'!B51","v":46},{"$f":"'[1]ENTRADA PARTIDAS'!C51","v":0},{"$f":"'[1]ENTRADA PARTIDAS'!H51","v":"Pareja 23"},null,{"$f":"'[1]ENTRADA PARTIDAS'!F51","v":""},{"$f":"'[1]ENTRADA PARTIDAS'!G51","v":0},null,null,null,null,null,null,0,0]
[null,{"$f":"'[1]ENTRADA PARTIDAS'!B52","v":47},{"$f":"'[1]ENTRADA PARTIDAS'!C52","v":0},{"$f":"'[1]ENTRADA PARTIDAS'!H52","v":"Pareja 24"},null,{"$f":"'[1]ENTRADA PARTIDAS'!F52","v":""},{"$f":"'[1]ENTRADA PARTIDAS'!G52","v":0},null,null,null,null,null,null,0,0,{"$f":"SUM(O51:O52)","v":0}]
[null,{"$f":"'[1]ENTRADA PARTIDAS'!B53","v":48},{"$f":"'[1]ENTRADA PARTIDAS'!C53","v":0},{"$f":"'[1]ENTRADA PARTIDAS'!H53","v":"Pareja 24"},null,{"$f":"'[1]ENTRADA PARTIDAS'!F53","v":""},{"$f":"'[1]ENTRADA PARTIDAS'!G53","v":0},null,null,null,null,null,null,0,0]
[null,{"$f":"'[1]ENTRADA PARTIDAS'!B54","v":49},{"$f":"'[1]ENTRADA PARTIDAS'!C54","v":0},{"$f":"'[1]ENTRADA PARTIDAS'!H54","v":"Pareja 25"},null,{"$f":"'[1]ENTRADA PARTIDAS'!F54","v":""},{"$f":"'[1]ENTRADA PARTIDAS'!G54","v":0},null,null,null,null,null,null,0,0,{"$f":"SUM(O53:O54)","v":0}]
[null,{"$f":"'[1]ENTRADA PARTIDAS'!B55","v":50},{"$f":"'[1]ENTRADA PARTIDAS'!C55","v":0},{"$f":"'[1]ENTRADA PARTIDAS'!H55","v":"Pareja 25"},null,{"$f":"'[1]ENTRADA PARTIDAS'!F55","v":""},{"$f":"'[1]ENTRADA PARTIDAS'!G55","v":0},null,null,null,null,null,null,0,0]
[null,{"$f":"'[1]ENTRADA PARTIDAS'!B56","v":51},{"$f":"'[1]ENTRADA PARTIDAS'!C56","v":0},{"$f":"'[1]ENTRADA PARTIDAS'!H56","v":"Pareja 26"},null,{"$f":"'[1]ENTRADA PARTIDAS'!F56","v":""},{"$f":"'[1]ENTRADA PARTIDAS'!G56","v":0},null,null,null,null,null,null,0,0,{"$f":"SUM(O55:O56)","v":0}]
[null,{"$f":"'[1]ENTRADA PARTIDAS'!B57","v":52},{"$f":"'[1]ENTRADA PARTIDAS'!C57","v":0},{"$f":"'[1]ENTRADA PARTIDAS'!H57","v":"Pareja 26"},null,{"$f":"'[1]ENTRADA PARTIDAS'!F57","v":""},{"$f":"'[1]ENTRADA PARTIDAS'!G57","v":0},null,null,null,null,null,null,0,0]
[null,{"$f":"'[1]ENTRADA PARTIDAS'!B58","v":53},{"$f":"'[1]ENTRADA PARTIDAS'!C58","v":0},{"$f":"'[1]ENTRADA PARTIDAS'!H58","v":"Pareja 27"},null,{"$f":"'[1]ENTRADA PARTIDAS'!F58","v":""},{"$f":"'[1]ENTRADA PARTIDAS'!G58","v":0},null,null,null,null,null,null,0,0,{"$f":"SUM(O57:O58)","v":0}]
[null,{"$f":"'[1]ENTRADA PARTIDAS'!B59","v":54},{"$f":"'[1]ENTRADA PARTIDAS'!C59","v":0},{"$f":"'[1]ENTRADA PARTIDAS'!H59","v":"Pareja 27"},null,{"$f":"'[1]ENTRADA PARTIDAS'!F59","v":""},{"$f":"'[1]ENTRADA PARTIDAS'!G59","v":0},null,null,null,null,null,null,0,0]
[null,{"$f":"'[1]ENTRADA PARTIDAS'!B60","v":55},{"$f":"'[1]ENTRADA PARTIDAS'!C60","v":0},{"$f":"'[1]ENTRADA PARTIDAS'!H60","v":"Pareja 28"},null,{"$f":"'[1]ENTRADA PARTIDAS'!F60","v":""},{"$f":"'[1]ENTRADA PARTIDAS'!G60","v":0},null,null,null,null,null,null,0,0,{"$f":"SUM(O59:O60)","v":0}]
[null,{"$f":"'[1]ENTRADA PARTIDAS'!B61","v":56},{"$f":"'[1]ENTRADA PARTIDAS'!C61","v":0},{"$f":"'[1]ENTRADA PARTIDAS'!H61","v":"Pareja 28"},null,{"$f":"'[1]ENTRADA PARTIDAS'!F61","v":""},{"$f":"'[1]ENTRADA PARTIDAS'!G61","v":0},null,null,null,null,null,null,0,0]
[null,{"$f":"'[1]ENTRADA PARTIDAS'!B62","v":57},{"$f":"'[1]ENTRADA PARTIDAS'!C62","v":0},{"$f":"'[1]ENTRADA PARTIDAS'!H62","v":"Pareja 29"},null,{"$f":"'[1]ENTRADA PARTIDAS'!F62","v":""},{"$f":"'[1]ENTRADA PARTIDAS'!G62","v":0},null,null,null,null,null,null,0,0,{"$f":"SUM(O61:O62)","v":0}]
[null,{"$f":"'[1]ENTRADA PARTIDAS'!B63","v":58},{"$f":"'[1]ENTRADA PARTIDAS'!C63","v":0},{"$f":"'[1]ENTRADA PARTIDAS'!H63","v":"Pareja 29"},null,{"$f":"'[1]ENTRADA PARTIDAS'!F63","v":""},{"$f":"'[1]ENTRADA PARTIDAS'!G63","v":0},null,null,null,null,null,null,0,0]
[null,{"$f":"'[1]ENTRADA PARTIDAS'!B64","v":59},{"$f":"'[1]ENTRADA PARTIDAS'!C64","v":0},{"$f":"'[1]ENTRADA PARTIDAS'!H64","v":"Pareja 30"},null,{"$f":"'[1]ENTRADA PARTIDAS'!F64","v":""},{"$f":"'[1]ENTRADA PARTIDAS'!G64","v":0},null,null,null,null,null,null,0,0,{"$f":"SUM(O63:O64)","v":0}]
[null,{"$f":"'[1]ENTRADA PARTIDAS'!B65","v":60},{"$f":"'[1]ENTRADA PARTIDAS'!C65","v":0},{"$f":"'[1]ENTRADA PARTIDAS'!H65","v":"Pareja 30"},null,{"$f":"'[1]ENTRADA PARTIDAS'!F65","v":""},{"$f":"'[1]ENTRADA PARTIDAS'!G65","v":0},null,null,null,null,null,null,0,0]
[null,{"$f":"'[1]ENTRADA PARTIDAS'!B66","v":61},{"$f":"'[1]ENTRADA PARTIDAS'!C66","v":0},{"$f":"'[1]ENTRADA PARTIDAS'!H66","v":"Pareja 31"},null,{"$f":"'[1]ENTRADA PARTIDAS'!F66","v":""},{"$f":"'[1]ENTRADA PARTIDAS'!G66","v":0},null,null,null,null,null,null,0,0,{"$f":"SUM(O65:O66)","v":0}]
[null,{"$f":"'[1]ENTRADA PARTIDAS'!B67","v":62},{"$f":"'[1]ENTRADA PARTIDAS'!C67","v":0},{"$f":"'[1]ENTRADA PARTIDAS'!H67","v":"Pareja 31"},null,{"$f":"'[1]ENTRADA PARTIDAS'!F67","v":""},{"$f":"'[1]ENTRADA PARTIDAS'!G67","v":0},null,null,null,null,null,null,0,0]
[null,{"$f":"'[1]ENTRADA PARTIDAS'!B68","v":63},{"$f":"'[1]ENTRADA PARTIDAS'!C68","v":0},{"$f":"'[1]ENTRADA PARTIDAS'!H68","v":"Pareja 32"},null,{"$f":"'[1]ENTRADA PARTIDAS'!F68","v":""},{"$f":"'[1]ENTRADA PARTIDAS'!G68","v":0},null,null,null,null,null,null,0,0,{"$f":"SUM(O67:O68)","v":0}]
[null,{"$f":"'[1]ENTRADA PARTIDAS'!B69","v":64},{"$f":"'[1]ENTRADA PARTIDAS'!C69","v":0},{"$f":"'[1]ENTRADA PARTIDAS'!H69","v":"Pareja 32"},null,{"$f":"'[1]ENTRADA PARTIDAS'!F69","v":""},{"$f":"'[1]ENTRADA PARTIDAS'!G69","v":0},null,null,null,null,null,null,0,0]
[null,{"$f":"'[1]ENTRADA PARTIDAS'!B70","v":65},{"$f":"'[1]ENTRADA PARTIDAS'!C70","v":0},{"$f":"'[1]ENTRADA PARTIDAS'!H70","v":"Pareja 33"},null,{"$f":"'[1]ENTRADA PARTIDAS'!F70","v":""},{"$f":"'[1]ENTRADA PARTIDAS'!G70","v":0},null,null,null,null,null,null,0,{"$f":"N69+COUNT(H69:M69)*G69","v":0},{"$f":"SUM(O69:O70)","v":0}]
[null,{"$f":"'[1]ENTRADA PARTIDAS'!B71","v":66},{"$f":"'[1]ENTRADA PARTIDAS'!C71","v":0},{"$f":"'[1]ENTRADA PARTIDAS'!H71","v":"Pareja 33"},null,{"$f":"'[1]ENTRADA PARTIDAS'!F71","v":""},{"$f":"'[1]ENTRADA PARTIDAS'!G71","v":0},null,null,null,null,null,null,0,0]
[null,{"$f":"'[1]ENTRADA PARTIDAS'!B72","v":67},{"$f":"'[1]ENTRADA PARTIDAS'!C72","v":0},{"$f":"'[1]ENTRADA PARTIDAS'!H72","v":"Pareja 34"},null,{"$f":"'[1]ENTRADA PARTIDAS'!F72","v":""},{"$f":"'[1]ENTRADA PARTIDAS'!G72","v":0},null,null,null,null,null,null,0,0,{"$f":"SUM(O71:O72)","v":0}]
[null,{"$f":"'[1]ENTRADA PARTIDAS'!B73","v":68},{"$f":"'[1]ENTRADA PARTIDAS'!C73","v":0},{"$f":"'[1]ENTRADA PARTIDAS'!H73","v":"Pareja 34"},null,{"$f":"'[1]ENTRADA PARTIDAS'!F73","v":""},{"$f":"'[1]ENTRADA PARTIDAS'!G73","v":0},null,null,null,null,null,null,0,0]
[null,{"$f":"'[1]ENTRADA PARTIDAS'!B74","v":69},{"$f":"'[1]ENTRADA PARTIDAS'!C74","v":0},{"$f":"'[1]ENTRADA PARTIDAS'!H74","v":"Pareja 35"},null,{"$f":"'[1]ENTRADA PARTIDAS'!F74","v":""},{"$f":"'[1]ENTRADA PARTIDAS'!G74","v":0},null,null,null,null,null,null,0,0,{"$f":"SUM(O73:O74)","v":0}]
[null,{"$f":"'[1]ENTRADA PARTIDAS'!B75","v":70},{"$f":"'[1]ENTRADA PARTIDAS'!C75","v":0},{"$f":"'[1]ENTRADA PARTIDAS'!H75","v":"Pareja 35"},null,{"$f":"'[1]ENTRADA PARTIDAS'!F75","v":""},{"$f":"'[1]ENTRADA PARTIDAS'!G75","v":0},null,null,null,null,null,null,0,0]
[null,{"$f":"'[1]ENTRADA PARTIDAS'!B76","v":71},{"$f":"'[1]ENTRADA PARTIDAS'!C76","v":0},{"$f":"'[1]ENTRADA PARTIDAS'!H76","v":"Pareja 36"},null,{"$f":"'[1]ENTRADA PARTIDAS'!F76","v":""},{"$f":"'[1]ENTRADA PARTIDAS'!G76","v":0},null,null,null,null,null,null,0,0,{"$f":"SUM(O75:O76)","v":0}]
[null,{"$f":"'[1]ENTRADA PARTIDAS'!B77","v":72},{"$f":"'[1]ENTRADA PARTIDAS'!C77","v":0},{"$f":"'[1]ENTRADA PARTIDAS'!H77","v":"Pareja 36"},null,{"$f":"'[1]ENTRADA PARTIDAS'!F77","v":""},{"$f":"'[1]ENTRADA PARTIDAS'!G77","v":0},null,null,null,null,null,null,0,0]
[null,{"$f":"'[1]ENTRADA PARTIDAS'!B78","v":73},{"$f":"'[1]ENTRADA PARTIDAS'!C78","v":0},{"$f":"'[1]ENTRADA PARTIDAS'!H78","v":"Pareja 37"},null,{"$f":"'[1]ENTRADA PARTIDAS'!F78","v":""},{"$f":"'[1]ENTRADA PARTIDAS'!G78","v":0},null,null,null,null,null,null,0,0,{"$f":"SUM(O77:O78)","v":0}]
[null,{"$f":"'[1]ENTRADA PARTIDAS'!B79","v":74},{"$f":"'[1]ENTRADA PARTIDAS'!C79","v":0},{"$f":"'[1]ENTRADA PARTIDAS'!H79","v":"Pareja 37"},null,{"$f":"'[1]ENTRADA PARTIDAS'!F79","v":""},{"$f":"'[1]ENTRADA PARTIDAS'!G79","v":0},null,null,null,null,null,null,0,0]
[null,{"$f":"'[1]ENTRADA PARTIDAS'!B80","v":75},{"$f":"'[1]ENTRADA PARTIDAS'!C80","v":0},{"$f":"'[1]ENTRADA PARTIDAS'!H80","v":"Pareja 38"},null,{"$f":"'[1]ENTRADA PARTIDAS'!F80","v":""},{"$f":"'[1]ENTRADA PARTIDAS'!G80","v":0},null,null,null,null,null,null,0,0,{"$f":"SUM(O79:O80)","v":0}]
[null,{"$f":"'[1]ENTRADA PARTIDAS'!B81","v":76},{"$f":"'[1]ENTRADA PARTIDAS'!C81","v":0},{"$f":"'[1]ENTRADA PARTIDAS'!H81","v":"Pareja 38"},null,{"$f":"'[1]ENTRADA PARTIDAS'!F81","v":""},{"$f":"'[1]ENTRADA PARTIDAS'!G81","v":0},null,null,null,null,null,null,0,0]
[null,{"$f":"'[1]ENTRADA PARTIDAS'!B82","v":77},{"$f":"'[1]ENTRADA PARTIDAS'!C82","v":0},{"$f":"'[1]ENTRADA PARTIDAS'!H82","v":"Pareja 39"},null,{"$f":"'[1]ENTRADA PARTIDAS'!F82","v":""},{"$f":"'[1]ENTRADA PARTIDAS'!G82","v":0},null,null,null,null,null,null,0,0,{"$f":"SUM(O81:O82)","v":0}]
[null,{"$f":"'[1]ENTRADA PARTIDAS'!B83","v":78},{"$f":"'[1]ENTRADA PARTIDAS'!C83","v":0},{"$f":"'[1]ENTRADA PARTIDAS'!H83","v":"Pareja 39"},null,{"$f":"'[1]ENTRADA PARTIDAS'!F83","v":""},{"$f":"'[1]ENTRADA PARTIDAS'!G83","v":0},null,null,null,null,null,null,0,0]
[null,{"$f":"'[1]ENTRADA PARTIDAS'!B84","v":79},{"$f":"'[1]ENTRADA PARTIDAS'!C84","v":0},{"$f":"'[1]ENTRADA PARTIDAS'!H84","v":"Pareja 40"},null,{"$f":"'[1]ENTRADA PARTIDAS'!F84","v":""},{"$f":"'[1]ENTRADA PARTIDAS'!G84","v":0},null,null,null,null,null,null,0,0,{"$f":"SUM(O83:O84)","v":0}]
[null,{"$f":"'[1]ENTRADA PARTIDAS'!B85","v":80},{"$f":"'[1]ENTRADA PARTIDAS'!C85","v":0},{"$f":"'[1]ENTRADA PARTIDAS'!H85","v":"Pareja 40"},null,{"$f":"'[1]ENTRADA PARTIDAS'!F85","v":""},{"$f":"'[1]ENTRADA PARTIDAS'!G85","v":0},null,null,null,null,null,null,0,0]
[null,{"$f":"'[1]ENTRADA PARTIDAS'!B86","v":81},{"$f":"'[1]ENTRADA PARTIDAS'!C86","v":0},{"$f":"'[1]ENTRADA PARTIDAS'!H86","v":"Pareja 41"},null,{"$f":"'[1]ENTRADA PARTIDAS'!F86","v":""},{"$f":"'[1]ENTRADA PARTIDAS'!G86","v":0},null,null,null,null,null,null,0,0,{"$f":"SUM(O85:O86)","v":0}]
[null,{"$f":"'[1]ENTRADA PARTIDAS'!B87","v":82},{"$f":"'[1]ENTRADA PARTIDAS'!C87","v":0},{"$f":"'[1]ENTRADA PARTIDAS'!H87","v":"Pareja 41"},null,{"$f":"'[1]ENTRADA PARTIDAS'!F87","v":""},{"$f":"'[1]ENTRADA PARTIDAS'!G87","v":0},null,null,null,null,null,null,0,0]
[null,{"$f":"'[1]ENTRADA PARTIDAS'!B88","v":83},{"$f":"'[1]ENTRADA PARTIDAS'!C88","v":0},{"$f":"'[1]ENTRADA PARTIDAS'!H88","v":"Pareja 42"},null,{"$f":"'[1]ENTRADA PARTIDAS'!F88","v":""},{"$f":"'[1]ENTRADA PARTIDAS'!G88","v":0},null,null,null,null,null,null,0,0,{"$f":"SUM(O87:O88)","v":0}]
[null,{"$f":"'[1]ENTRADA PARTIDAS'!B89","v":84},{"$f":"'[1]ENTRADA PARTIDAS'!C89","v":0},{"$f":"'[1]ENTRADA PARTIDAS'!H89","v":"Pareja 42"},null,{"$f":"'[1]ENTRADA PARTIDAS'!F89","v":""},{"$f":"'[1]ENTRADA PARTIDAS'!G89","v":0},null,null,null,null,null,null,0,0]
[null,{"$f":"'[1]ENTRADA PARTIDAS'!B90","v":85},{"$f":"'[1]ENTRADA PARTIDAS'!C90","v":0},{"$f":"'[1]ENTRADA PARTIDAS'!H90","v":"Pareja 43"},null,{"$f":"'[1]ENTRADA PARTIDAS'!F90","v":""},{"$f":"'[1]ENTRADA PARTIDAS'!G90","v":0},null,null,null,null,null,null,0,0,{"$f":"SUM(O89:O90)","v":0}]
[null,{"$f":"'[1]ENTRADA PARTIDAS'!B91","v":86},{"$f":"'[1]ENTRADA PARTIDAS'!C91","v":0},{"$f":"'[1]ENTRADA PARTIDAS'!H91","v":"Pareja 43"},null,{"$f":"'[1]ENTRADA PARTIDAS'!F91","v":""},{"$f":"'[1]ENTRADA PARTIDAS'!G91","v":0},null,null,null,null,null,null,0,0]
[null,{"$f":"'[1]ENTRADA PARTIDAS'!B92","v":87},{"$f":"'[1]ENTRADA PARTIDAS'!C92","v":0},{"$f":"'[1]ENTRADA PARTIDAS'!H92","v":"Pareja 44"},null,{"$f":"'[1]ENTRADA PARTIDAS'!F92","v":""},{"$f":"'[1]ENTRADA PARTIDAS'!G92","v":0},null,null,null,null,null,null,0,0,{"$f":"SUM(O91:O92)","v":0}]
[null,{"$f":"'[1]ENTRADA PARTIDAS'!B93","v":88},{"$f":"'[1]ENTRADA PARTIDAS'!C93","v":0},{"$f":"'[1]ENTRADA PARTIDAS'!H93","v":"Pareja 44"},null,{"$f":"'[1]ENTRADA PARTIDAS'!F93","v":""},{"$f":"'[1]ENTRADA PARTIDAS'!G93","v":0},null,null,null,null,null,null,0,0]
[null,{"$f":"'[1]ENTRADA PARTIDAS'!B94","v":89},{"$f":"'[1]ENTRADA PARTIDAS'!C94","v":0},{"$f":"'[1]ENTRADA PARTIDAS'!H94","v":"Pareja 45"},null,{"$f":"'[1]ENTRADA PARTIDAS'!F94","v":""},{"$f":"'[1]ENTRADA PARTIDAS'!G94","v":0},null,null,null,null,null,null,0,0,{"$f":"SUM(O93:O94)","v":0}]
[null,{"$f":"'[1]ENTRADA PARTIDAS'!B95","v":90},{"$f":"'[1]ENTRADA PARTIDAS'!C95","v":0},{"$f":"'[1]ENTRADA PARTIDAS'!H95","v":"Pareja 45"},null,{"$f":"'[1]ENTRADA PARTIDAS'!F95","v":""},{"$f":"'[1]ENTRADA PARTIDAS'!G95","v":0},null,null,null,null,null,null,0,0]
[null,{"$f":"'[1]ENTRADA PARTIDAS'!B96","v":91},{"$f":"'[1]ENTRADA PARTIDAS'!C96","v":0},{"$f":"'[1]ENTRADA PARTIDAS'!H96","v":"Pareja 46"},null,{"$f":"'[1]ENTRADA PARTIDAS'!F96","v":""},{"$f":"'[1]ENTRADA PARTIDAS'!G96","v":0},null,null,null,null,null,null,0,0,{"$f":"SUM(O95:O96)","v":0}]
[null,{"$f":"'[1]ENTRADA PARTIDAS'!B97","v":92},{"$f":"'[1]ENTRADA PARTIDAS'!C97","v":0},{"$f":"'[1]ENTRADA PARTIDAS'!H97","v":"Pareja 46"},null,{"$f":"'[1]ENTRADA PARTIDAS'!F97","v":""},{"$f":"'[1]ENTRADA PARTIDAS'!G97","v":0},null,null,null,null,null,null,0,0]
[null,{"$f":"'[1]ENTRADA PARTIDAS'!B98","v":93},{"$f":"'[1]ENTRADA PARTIDAS'!C98","v":0},{"$f":"'[1]ENTRADA PARTIDAS'!H98","v":"Pareja 47"},null,{"$f":"'[1]ENTRADA PARTIDAS'!F98","v":""},{"$f":"'[1]ENTRADA PARTIDAS'!G98","v":0},null,null,null,null,null,null,0,0,{"$f":"SUM(O97:O98)","v":0}]
[null,{"$f":"'[1]ENTRADA PARTIDAS'!B99","v":94},{"$f":"'[1]ENTRADA PARTIDAS'!C99","v":0},{"$f":"'[1]ENTRADA PARTIDAS'!H99","v":"Pareja 47"},null,{"$f":"'[1]ENTRADA PARTIDAS'!F99","v":""},{"$f":"'[1]ENTRADA PARTIDAS'!G99","v":0},null,null,null,null,null,null,0,0]
[null,{"$f":"'[1]ENTRADA PARTIDAS'!B100","v":95},{"$f":"'[1]ENTRADA PARTIDAS'!C100","v":0},{"$f":"'[1]ENTRADA PARTIDAS'!H100","v":"Pareja 48"},null,{"$f":"'[1]ENTRADA PARTIDAS'!F100","v":""},{"$f":"'[1]ENTRADA PARTIDAS'!G100","v":0},null,null,null,null,null,null,0,0,{"$f":"SUM(O99:O100)","v":0}]
[null,{"$f":"'[1]ENTRADA PARTIDAS'!B101","v":96},{"$f":"'[1]ENTRADA PARTIDAS'!C101","v":0},{"$f":"'[1]ENTRADA PARTIDAS'!H101","v":"Pareja 48"},null,{"$f":"'[1]ENTRADA PARTIDAS'!F101","v":""},{"$f":"'[1]ENTRADA PARTIDAS'!G101","v":0},null,null,null,null,null,null,{"$f":"SUM(H100:M100)","v":0},0]
[null,{"$f":"'[1]ENTRADA PARTIDAS'!B102","v":97},{"$f":"'[1]ENTRADA PARTIDAS'!C102","v":0},{"$f":"'[1]ENTRADA PARTIDAS'!H102","v":"Pareja 49"},null,{"$f":"'[1]ENTRADA PARTIDAS'!F102","v":""},{"$f":"'[1]ENTRADA PARTIDAS'!G102","v":0},null,null,null,null,null,null,0,0,{"$f":"SUM(O101:O102)","v":0}]
[null,{"$f":"'[1]ENTRADA PARTIDAS'!B103","v":98},{"$f":"'[1]ENTRADA PARTIDAS'!C103","v":0},{"$f":"'[1]ENTRADA PARTIDAS'!H103","v":"Pareja 49"},null,{"$f":"'[1]ENTRADA PARTIDAS'!F103","v":""},{"$f":"'[1]ENTRADA PARTIDAS'!G103","v":0},null,null,null,null,null,null,0,0]
[null,{"$f":"'[1]ENTRADA PARTIDAS'!B104","v":99},{"$f":"'[1]ENTRADA PARTIDAS'!C104","v":0},{"$f":"'[1]ENTRADA PARTIDAS'!H104","v":"Pareja 50"},null,{"$f":"'[1]ENTRADA PARTIDAS'!F104","v":""},{"$f":"'[1]ENTRADA PARTIDAS'!G104","v":0},null,null,null,null,null,null,0,0,{"$f":"SUM(O103:O104)","v":0}]
[null,{"$f":"'[1]ENTRADA PARTIDAS'!B105","v":100},{"$f":"'[1]ENTRADA PARTIDAS'!C105","v":0},{"$f":"'[1]ENTRADA PARTIDAS'!H105","v":"Pareja 50"},null,{"$f":"'[1]ENTRADA PARTIDAS'!F105","v":""},{"$f":"'[1]ENTRADA PARTIDAS'!G105","v":0},null,null,null,null,null,null,0,0]
[null,{"$f":"'[1]ENTRADA PARTIDAS'!B106","v":101},{"$f":"'[1]ENTRADA PARTIDAS'!C106","v":0},{"$f":"'[1]ENTRADA PARTIDAS'!H106","v":"Pareja 51"},null,{"$f":"'[1]ENTRADA PARTIDAS'!F106","v":""},{"$f":"'[1]ENTRADA PARTIDAS'!G106","v":0},null,null,null,null,null,null,0,0,{"$f":"SUM(O105:O106)","v":0}]
[null,{"$f":"'[1]ENTRADA PARTIDAS'!B107","v":102},{"$f":"'[1]ENTRADA PARTIDAS'!C107","v":0},{"$f":"'[1]ENTRADA PARTIDAS'!H107","v":"Pareja 51"},null,{"$f":"'[1]ENTRADA PARTIDAS'!F107","v":""},{"$f":"'[1]ENTRADA PARTIDAS'!G107","v":0},null,null,null,null,null,null,0,0]
[null,{"$f":"'[1]ENTRADA PARTIDAS'!B108","v":103},{"$f":"'[1]ENTRADA PARTIDAS'!C108","v":0},{"$f":"'[1]ENTRADA PARTIDAS'!H108","v":"Pareja 52"},null,{"$f":"'[1]ENTRADA PARTIDAS'!F108","v":""},{"$f":"'[1]ENTRADA PARTIDAS'!G108","v":0},null,null,null,null,null,null,0,0,{"$f":"SUM(O107:O108)","v":0}]
[null,{"$f":"'[1]ENTRADA PARTIDAS'!B109","v":104},{"$f":"'[1]ENTRADA PARTIDAS'!C109","v":0},{"$f":"'[1]ENTRADA PARTIDAS'!H109","v":"Pareja 52"},null,{"$f":"'[1]ENTRADA PARTIDAS'!F109","v":""},{"$f":"'[1]ENTRADA PARTIDAS'!G109","v":0},null,null,null,null,null,null,0,0]
[null,{"$f":"'[1]ENTRADA PARTIDAS'!B110","v":105},{"$f":"'[1]ENTRADA PARTIDAS'!C110","v":0},{"$f":"'[1]ENTRADA PARTIDAS'!H110","v":"Pareja 53"},null,{"$f":"'[1]ENTRADA PARTIDAS'!F110","v":""},{"$f":"'[1]ENTRADA PARTIDAS'!G110","v":0},null,null,null,null,null,null,0,0,{"$f":"SUM(O109:O110)","v":0}]
[null,{"$f":"'[1]ENTRADA PARTIDAS'!B111","v":106},{"$f":"'[1]ENTRADA PARTIDAS'!C111","v":0},{"$f":"'[1]ENTRADA PARTIDAS'!H111","v":"Pareja 53"},null,{"$f":"'[1]ENTRADA PARTIDAS'!F111","v":""},{"$f":"'[1]ENTRADA PARTIDAS'!G111","v":0},null,null,null,null,null,null,0,0]
[null,{"$f":"'[1]ENTRADA PARTIDAS'!B112","v":107},{"$f":"'[1]ENTRADA PARTIDAS'!C112","v":0},{"$f":"'[1]ENTRADA PARTIDAS'!H112","v":"Pareja 54"},null,{"$f":"'[1]ENTRADA PARTIDAS'!F112","v":""},{"$f":"'[1]ENTRADA PARTIDAS'!G112","v":0},null,null,null,null,null,null,0,0,{"$f":"SUM(O111:O112)","v":0}]
[null,{"$f":"'[1]ENTRADA PARTIDAS'!B113","v":108},{"$f":"'[1]ENTRADA PARTIDAS'!C113","v":0},{"$f":"'[1]ENTRADA PARTIDAS'!H113","v":"Pareja 54"},null,{"$f":"'[1]ENTRADA PARTIDAS'!F113","v":""},{"$f":"'[1]ENTRADA PARTIDAS'!G113","v":0},null,null,null,null,null,null,0,0]
[null,{"$f":"'[1]ENTRADA PARTIDAS'!B114","v":109},{"$f":"'[1]ENTRADA PARTIDAS'!C114","v":0},{"$f":"'[1]ENTRADA PARTIDAS'!H114","v":"Pareja 55"},null,{"$f":"'[1]ENTRADA PARTIDAS'!F114","v":""},{"$f":"'[1]ENTRADA PARTIDAS'!G114","v":0},null,null,null,null,null,null,0,0,{"$f":"SUM(O113:O114)","v":0}]
[null,{"$f":"'[1]ENTRADA PARTIDAS'!B115","v":110},{"$f":"'[1]ENTRADA PARTIDAS'!C115","v":0},{"$f":"'[1]ENTRADA PARTIDAS'!H115","v":"Pareja 55"},null,{"$f":"'[1]ENTRADA PARTIDAS'!F115","v":""},{"$f":"'[1]ENTRADA PARTIDAS'!G115","v":0},null,null,null,null,null,null,0,0]
[null,{"$f":"'[1]ENTRADA PARTIDAS'!B116","v":111},{"$f":"'[1]ENTRADA PARTIDAS'!C116","v":0},{"$f":"'[1]ENTRADA PARTIDAS'!H116","v":"Pareja 56"},null,{"$f":"'[1]ENTRADA PARTIDAS'!F116","v":""},{"$f":"'[1]ENTRADA PARTIDAS'!G116","v":0},null,null,null,null,null,null,0,0,{"$f":"SUM(O115:O116)","v":0}]
[null,{"$f":"'[1]ENTRADA PARTIDAS'!B117","v":112},{"$f":"'[1]ENTRADA PARTIDAS'!C117","v":0},{"$f":"'[1]ENTRADA PARTIDAS'!H117","v":"Pareja 56"},null,{"$f":"'[1]ENTRADA PARTIDAS'!F117","v":""},{"$f":"'[1]ENTRADA PARTIDAS'!G117","v":0},null,null,null,null,null,null,0,0]
[null,{"$f":"'[1]ENTRADA PARTIDAS'!B118","v":113},{"$f":"'[1]ENTRADA PARTIDAS'!C118","v":0},{"$f":"'[1]ENTRADA PARTIDAS'!H118","v":"Pareja 57"},null,{"$f":"'[1]ENTRADA PARTIDAS'!F118","v":""},{"$f":"'[1]ENTRADA PARTIDAS'!G118","v":0},null,null,null,null,null,null,0,0,{"$f":"SUM(O117:O118)","v":0}]
[null,{"$f":"'[1]ENTRADA PARTIDAS'!B119","v":114},{"$f":"'[1]ENTRADA PARTIDAS'!C119","v":0},{"$f":"'[1]ENTRADA PARTIDAS'!H119","v":"Pareja 57"},null,{"$f":"'[1]ENTRADA PARTIDAS'!F119","v":""},{"$f":"'[1]ENTRADA PARTIDAS'!G119","v":0},null,null,null,null,null,null,0,0]
[null,{"$f":"'[1]ENTRADA PARTIDAS'!B120","v":115},{"$f":"'[1]ENTRADA PARTIDAS'!C120","v":0},{"$f":"'[1]ENTRADA PARTIDAS'!H120","v":"Pareja 58"},null,{"$f":"'[1]ENTRADA PARTIDAS'!F120","v":""},{"$f":"'[1]ENTRADA PARTIDAS'!G120","v":0},null,null,null,null,null,null,0,0,{"$f":"SUM(O119:O120)","v":0}]
[null,{"$f":"'[1]ENTRADA PARTIDAS'!B121","v":116},{"$f":"'[1]ENTRADA PARTIDAS'!C121","v":0},{"$f":"'[1]ENTRADA PARTIDAS'!H121","v":"Pareja 58"},null,{"$f":"'[1]ENTRADA PARTIDAS'!F121","v":""},{"$f":"'[1]ENTRADA PARTIDAS'!G121","v":0},null,null,null,null,null,null,0,0]
[null,{"$f":"'[1]ENTRADA PARTIDAS'!B122","v":117},{"$f":"'[1]ENTRADA PARTIDAS'!C122","v":0},{"$f":"'[1]ENTRADA PARTIDAS'!H122","v":"Pareja 59"},null,{"$f":"'[1]ENTRADA PARTIDAS'!F122","v":""},{"$f":"'[1]ENTRADA PARTIDAS'!G122","v":0},null,null,null,null,null,null,0,0,{"$f":"SUM(O121:O122)","v":0}]
[null,{"$f":"'[1]ENTRADA PARTIDAS'!B123","v":118},{"$f":"'[1]ENTRADA PARTIDAS'!C123","v":0},{"$f":"'[1]ENTRADA PARTIDAS'!H123","v":"Pareja 59"},null,{"$f":"'[1]ENTRADA PARTIDAS'!F123","v":""},{"$f":"'[1]ENTRADA PARTIDAS'!G123","v":0},null,null,null,null,null,null,0,0]
[null,{"$f":"'[1]ENTRADA PARTIDAS'!B124","v":119},{"$f":"'[1]ENTRADA PARTIDAS'!C124","v":0},{"$f":"'[1]ENTRADA PARTIDAS'!H124","v":"Pareja 60"},null,{"$f":"'[1]ENTRADA PARTIDAS'!F124","v":""},{"$f":"'[1]ENTRADA PARTIDAS'!G124","v":0},null,null,null,null,null,null,0,0,{"$f":"SUM(O123:O124)","v":0}]
[null,{"$f":"'[1]ENTRADA PARTIDAS'!B125","v":120},{"$f":"'[1]ENTRADA PARTIDAS'!C125","v":0},{"$f":"'[1]ENTRADA PARTIDAS'!H125","v":"Pareja 60"},null,{"$f":"'[1]ENTRADA PARTIDAS'!F125","v":""},{"$f":"'[1]ENTRADA PARTIDAS'!G125","v":0},null,null,null,null,null,null,0,0]
[null,{"$f":"'[1]ENTRADA PARTIDAS'!B126","v":121},{"$f":"'[1]ENTRADA PARTIDAS'!C126","v":0},{"$f":"'[1]ENTRADA PARTIDAS'!H126","v":"Pareja 61"},null,{"$f":"'[1]ENTRADA PARTIDAS'!F126","v":""},{"$f":"'[1]ENTRADA PARTIDAS'!G126","v":0},null,null,null,null,null,null,0,0,{"$f":"SUM(O125:O126)","v":0}]
[null,{"$f":"'[1]ENTRADA PARTIDAS'!B127","v":122},{"$f":"'[1]ENTRADA PARTIDAS'!C127","v":0},{"$f":"'[1]ENTRADA PARTIDAS'!H127","v":"Pareja 61"},null,{"$f":"'[1]ENTRADA PARTIDAS'!F127","v":""},{"$f":"'[1]ENTRADA PARTIDAS'!G127","v":0},null,null,null,null,null,null,0,0]
[null,{"$f":"'[1]ENTRADA PARTIDAS'!B128","v":123},{"$f":"'[1]ENTRADA PARTIDAS'!C128","v":0},{"$f":"'[1]ENTRADA PARTIDAS'!H128","v":"Pareja 62"},null,{"$f":"'[1]ENTRADA PARTIDAS'!F128","v":""},{"$f":"'[1]ENTRADA PARTIDAS'!G128","v":0},null,null,null,null,null,null,0,0,{"$f":"SUM(O127:O128)","v":0}]
[null,{"$f":"'[1]ENTRADA PARTIDAS'!B129","v":124},{"$f":"'[1]ENTRADA PARTIDAS'!C129","v":0},{"$f":"'[1]ENTRADA PARTIDAS'!H129","v":"Pareja 62"},null,{"$f":"'[1]ENTRADA PARTIDAS'!F129","v":""},{"$f":"'[1]ENTRADA PARTIDAS'!G129","v":0},null,null,null,null,null,null,0,0]
[null,{"$f":"'[1]ENTRADA PARTIDAS'!B130","v":125},{"$f":"'[1]ENTRADA PARTIDAS'!C130","v":0},{"$f":"'[1]ENTRADA PARTIDAS'!H130","v":"Pareja 63"},null,{"$f":"'[1]ENTRADA PARTIDAS'!F130","v":""},{"$f":"'[1]ENTRADA PARTIDAS'!G130","v":0},null,null,null,null,null,null,0,0,{"$f":"SUM(O129:O130)","v":0}]
[null,{"$f":"'[1]ENTRADA PARTIDAS'!B131","v":126},{"$f":"'[1]ENTRADA PARTIDAS'!C131","v":0},{"$f":"'[1]ENTRADA PARTIDAS'!H131","v":"Pareja 63"},null,{"$f":"'[1]ENTRADA PARTIDAS'!F131","v":""},{"$f":"'[1]ENTRADA PARTIDAS'!G131","v":0},null,null,null,null,null,null,0,0]
[null,{"$f":"'[1]ENTRADA PARTIDAS'!B132","v":127},{"$f":"'[1]ENTRADA PARTIDAS'!C132","v":0},{"$f":"'[1]ENTRADA PARTIDAS'!H132","v":"Pareja 64"},null,{"$f":"'[1]ENTRADA PARTIDAS'!F132","v":""},{"$f":"'[1]ENTRADA PARTIDAS'!G132","v":0},null,null,null,null,null,null,0,0,{"$f":"SUM(O131:O132)","v":0}]
[null,{"$f":"'[1]ENTRADA PARTIDAS'!B133","v":128},{"$f":"'[1]ENTRADA PARTIDAS'!C133","v":0},{"$f":"'[1]ENTRADA PARTIDAS'!H133","v":"Pareja 64"},null,{"$f":"'[1]ENTRADA PARTIDAS'!F133","v":""},{"$f":"'[1]ENTRADA PARTIDAS'!G133","v":0},null,null,null,null,null,null,0,0]
[null,{"$f":"'[1]ENTRADA PARTIDAS'!B134","v":129},{"$f":"'[1]ENTRADA PARTIDAS'!C134","v":0},{"$f":"'[1]ENTRADA PARTIDAS'!H134","v":"Pareja 65"},null,{"$f":"'[1]ENTRADA PARTIDAS'!F134","v":""},{"$f":"'[1]ENTRADA PARTIDAS'!G134","v":0},null,null,null,null,null,null,0,{"$f":"N133+COUNT(H133:M133)*G133","v":0},{"$f":"SUM(O133:O134)","v":0}]
[null,{"$f":"'[1]ENTRADA PARTIDAS'!B135","v":130},{"$f":"'[1]ENTRADA PARTIDAS'!C135","v":0},{"$f":"'[1]ENTRADA PARTIDAS'!H135","v":"Pareja 65"},null,{"$f":"'[1]ENTRADA PARTIDAS'!F135","v":""},{"$f":"'[1]ENTRADA PARTIDAS'!G135","v":0},null,null,null,null,null,null,0,0]
[null,{"$f":"'[1]ENTRADA PARTIDAS'!B136","v":131},{"$f":"'[1]ENTRADA PARTIDAS'!C136","v":0},{"$f":"'[1]ENTRADA PARTIDAS'!H136","v":"Pareja 66"},null,{"$f":"'[1]ENTRADA PARTIDAS'!F136","v":""},{"$f":"'[1]ENTRADA PARTIDAS'!G136","v":0},null,null,null,null,null,null,0,0,{"$f":"SUM(O135:O136)","v":0}]
[null,{"$f":"'[1]ENTRADA PARTIDAS'!B137","v":132},{"$f":"'[1]ENTRADA PARTIDAS'!C137","v":0},{"$f":"'[1]ENTRADA PARTIDAS'!H137","v":"Pareja 66"},null,{"$f":"'[1]ENTRADA PARTIDAS'!F137","v":""},{"$f":"'[1]ENTRADA PARTIDAS'!G137","v":0},null,null,null,null,null,null,0,0]
[null,{"$f":"'[1]ENTRADA PARTIDAS'!B138","v":133},{"$f":"'[1]ENTRADA PARTIDAS'!C138","v":0},{"$f":"'[1]ENTRADA PARTIDAS'!H138","v":"Pareja 67"},null,{"$f":"'[1]ENTRADA PARTIDAS'!F138","v":""},{"$f":"'[1]ENTRADA PARTIDAS'!G138","v":0},null,null,null,null,null,null,0,0,{"$f":"SUM(O137:O138)","v":0}]
[null,{"$f":"'[1]ENTRADA PARTIDAS'!B139","v":134},{"$f":"'[1]ENTRADA PARTIDAS'!C139","v":0},{"$f":"'[1]ENTRADA PARTIDAS'!H139","v":"Pareja 67"},null,{"$f":"'[1]ENTRADA PARTIDAS'!F139","v":""},{"$f":"'[1]ENTRADA PARTIDAS'!G139","v":0},null,null,null,null,null,null,0,0]
[null,{"$f":"'[1]ENTRADA PARTIDAS'!B140","v":135},{"$f":"'[1]ENTRADA PARTIDAS'!C140","v":0},{"$f":"'[1]ENTRADA PARTIDAS'!H140","v":"Pareja 68"},null,{"$f":"'[1]ENTRADA PARTIDAS'!F140","v":""},{"$f":"'[1]ENTRADA PARTIDAS'!G140","v":0},null,null,null,null,null,null,0,0,{"$f":"SUM(O139:O140)","v":0}]
[null,{"$f":"'[1]ENTRADA PARTIDAS'!B141","v":136},{"$f":"'[1]ENTRADA PARTIDAS'!C141","v":0},{"$f":"'[1]ENTRADA PARTIDAS'!H141","v":"Pareja 68"},null,{"$f":"'[1]ENTRADA PARTIDAS'!F141","v":""},{"$f":"'[1]ENTRADA PARTIDAS'!G141","v":0},null,null,null,null,null,null,0,0]
[null,{"$f":"'[1]ENTRADA PARTIDAS'!B142","v":137},{"$f":"'[1]ENTRADA PARTIDAS'!C142","v":0},{"$f":"'[1]ENTRADA PARTIDAS'!H142","v":"Pareja 69"},null,{"$f":"'[1]ENTRADA PARTIDAS'!F142","v":""},{"$f":"'[1]ENTRADA PARTIDAS'!G142","v":0},null,null,null,null,null,null,0,0,{"$f":"SUM(O141:O142)","v":0}]
[null,{"$f":"'[1]ENTRADA PARTIDAS'!B143","v":138},{"$f":"'[1]ENTRADA PARTIDAS'!C143","v":0},{"$f":"'[1]ENTRADA PARTIDAS'!H143","v":"Pareja 69"},null,{"$f":"'[1]ENTRADA PARTIDAS'!F143","v":""},{"$f":"'[1]ENTRADA PARTIDAS'!G143","v":0},null,null,null,null,null,null,0,0]
[null,{"$f":"'[1]ENTRADA PARTIDAS'!B144","v":139},{"$f":"'[1]ENTRADA PARTIDAS'!C144","v":0},{"$f":"'[1]ENTRADA PARTIDAS'!H144","v":"Pareja 70"},null,{"$f":"'[1]ENTRADA PARTIDAS'!F144","v":""},{"$f":"'[1]ENTRADA PARTIDAS'!G144","v":0},null,null,null,null,null,null,0,0,{"$f":"SUM(O143:O144)","v":0}]
[null,{"$f":"'[1]ENTRADA PARTIDAS'!B145","v":140},{"$f":"'[1]ENTRADA PARTIDAS'!C145","v":0},{"$f":"'[1]ENTRADA PARTIDAS'!H145","v":"Pareja 70"},null,{"$f":"'[1]ENTRADA PARTIDAS'!F145","v":""},{"$f":"'[1]ENTRADA PARTIDAS'!G145","v":0},null,null,null,null,null,null,0,0]
[null,{"$f":"'[1]ENTRADA PARTIDAS'!B146","v":141},{"$f":"'[1]ENTRADA PARTIDAS'!C146","v":0},{"$f":"'[1]ENTRADA PARTIDAS'!H146","v":"Pareja 71"},null,{"$f":"'[1]ENTRADA PARTIDAS'!F146","v":""},{"$f":"'[1]ENTRADA PARTIDAS'!G146","v":0},null,null,null,null,null,null,0,0,{"$f":"SUM(O145:O146)","v":0}]
[null,{"$f":"'[1]ENTRADA PARTIDAS'!B147","v":142},{"$f":"'[1]ENTRADA PARTIDAS'!C147","v":0},{"$f":"'[1]ENTRADA PARTIDAS'!H147","v":"Pareja 71"},null,{"$f":"'[1]ENTRADA PARTIDAS'!F147","v":""},{"$f":"'[1]ENTRADA PARTIDAS'!G147","v":0},null,null,null,null,null,null,0,0]
[null,{"$f":"'[1]ENTRADA PARTIDAS'!B148","v":143},{"$f":"'[1]ENTRADA PARTIDAS'!C148","v":0},{"$f":"'[1]ENTRADA PARTIDAS'!H148","v":"Pareja 72"},null,{"$f":"'[1]ENTRADA PARTIDAS'!F148","v":""},{"$f":"'[1]ENTRADA PARTIDAS'!G148","v":0},null,null,null,null,null,null,0,0,{"$f":"SUM(O147:O148)","v":0}]
[null,{"$f":"'[1]ENTRADA PARTIDAS'!B149","v":144},{"$f":"'[1]ENTRADA PARTIDAS'!C149","v":0},{"$f":"'[1]ENTRADA PARTIDAS'!H149","v":"Pareja 72"},null,{"$f":"'[1]ENTRADA PARTIDAS'!F149","v":""},{"$f":"'[1]ENTRADA PARTIDAS'!G149","v":0},null,null,null,null,null,null,0,0]
[null,{"$f":"'[1]ENTRADA PARTIDAS'!B150","v":145},{"$f":"'[1]ENTRADA PARTIDAS'!C150","v":0},{"$f":"'[1]ENTRADA PARTIDAS'!H150","v":"Pareja 73"},null,{"$f":"'[1]ENTRADA PARTIDAS'!F150","v":""},{"$f":"'[1]ENTRADA PARTIDAS'!G150","v":0},null,null,null,null,null,null,0,0,{"$f":"SUM(O149:O150)","v":0}]
[null,{"$f":"'[1]ENTRADA PARTIDAS'!B151","v":146},{"$f":"'[1]ENTRADA PARTIDAS'!C151","v":0},{"$f":"'[1]ENTRADA PARTIDAS'!H151","v":"Pareja 73"},null,{"$f":"'[1]ENTRADA PARTIDAS'!F151","v":""},{"$f":"'[1]ENTRADA PARTIDAS'!G151","v":0},null,null,null,null,null,null,0,0]
[null,{"$f":"'[1]ENTRADA PARTIDAS'!B152","v":147},{"$f":"'[1]ENTRADA PARTIDAS'!C152","v":0},{"$f":"'[1]ENTRADA PARTIDAS'!H152","v":"Pareja 74"},null,{"$f":"'[1]ENTRADA PARTIDAS'!F152","v":""},{"$f":"'[1]ENTRADA PARTIDAS'!G152","v":0},null,null,null,null,null,null,0,0,{"$f":"SUM(O151:O152)","v":0}]
[null,{"$f":"'[1]ENTRADA PARTIDAS'!B153","v":148},{"$f":"'[1]ENTRADA PARTIDAS'!C153","v":0},{"$f":"'[1]ENTRADA PARTIDAS'!H153","v":"Pareja 74"},null,{"$f":"'[1]ENTRADA PARTIDAS'!F153","v":""},{"$f":"'[1]ENTRADA PARTIDAS'!G153","v":0},null,null,null,null,null,null,0,0]
[null,{"$f":"'[1]ENTRADA PARTIDAS'!B154","v":149},{"$f":"'[1]ENTRADA PARTIDAS'!C154","v":0},{"$f":"'[1]ENTRADA PARTIDAS'!H154","v":"Pareja 75"},null,{"$f":"'[1]ENTRADA PARTIDAS'!F154","v":""},{"$f":"'[1]ENTRADA PARTIDAS'!G154","v":0},null,null,null,null,null,null,0,0,{"$f":"SUM(O153:O154)","v":0}]
[null,{"$f":"'[1]ENTRADA PARTIDAS'!B155","v":150},{"$f":"'[1]ENTRADA PARTIDAS'!C155","v":0},{"$f":"'[1]ENTRADA PARTIDAS'!H155","v":"Pareja 75"},null,{"$f":"'[1]ENTRADA PARTIDAS'!F155","v":""},{"$f":"'[1]ENTRADA PARTIDAS'!G155","v":0},null,null,null,null,null,null,0,0]
[null,{"$f":"'[1]ENTRADA PARTIDAS'!B156","v":151},{"$f":"'[1]ENTRADA PARTIDAS'!C156","v":0},{"$f":"'[1]ENTRADA PARTIDAS'!H156","v":"Pareja 76"},null,{"$f":"'[1]ENTRADA PARTIDAS'!F156","v":""},{"$f":"'[1]ENTRADA PARTIDAS'!G156","v":0},null,null,null,null,null,null,0,0,{"$f":"SUM(O155:O156)","v":0}]
[null,{"$f":"'[1]ENTRADA PARTIDAS'!B157","v":152},{"$f":"'[1]ENTRADA PARTIDAS'!C157","v":0},{"$f":"'[1]ENTRADA PARTIDAS'!H157","v":"Pareja 76"},null,{"$f":"'[1]ENTRADA PARTIDAS'!F157","v":""},{"$f":"'[1]ENTRADA PARTIDAS'!G157","v":0},null,null,null,null,null,null,0,0]
[null,{"$f":"'[1]ENTRADA PARTIDAS'!B158","v":153},{"$f":"'[1]ENTRADA PARTIDAS'!C158","v":0},{"$f":"'[1]ENTRADA PARTIDAS'!H158","v":"Pareja 77"},null,{"$f":"'[1]ENTRADA PARTIDAS'!F158","v":""},{"$f":"'[1]ENTRADA PARTIDAS'!G158","v":0},null,null,null,null,null,null,0,0,{"$f":"SUM(O157:O158)","v":0}]
[null,{"$f":"'[1]ENTRADA PARTIDAS'!B159","v":154},{"$f":"'[1]ENTRADA PARTIDAS'!C159","v":0},{"$f":"'[1]ENTRADA PARTIDAS'!H159","v":"Pareja 77"},null,{"$f":"'[1]ENTRADA PARTIDAS'!F159","v":""},{"$f":"'[1]ENTRADA PARTIDAS'!G159","v":0},null,null,null,null,null,null,0,0]
[null,{"$f":"'[1]ENTRADA PARTIDAS'!B160","v":155},{"$f":"'[1]ENTRADA PARTIDAS'!C160","v":0},{"$f":"'[1]ENTRADA PARTIDAS'!H160","v":"Pareja 78"},null,{"$f":"'[1]ENTRADA PARTIDAS'!F160","v":""},{"$f":"'[1]ENTRADA PARTIDAS'!G160","v":0},null,null,null,null,null,null,0,0,{"$f":"SUM(O159:O160)","v":0}]
[null,{"$f":"'[1]ENTRADA PARTIDAS'!B161","v":156},{"$f":"'[1]ENTRADA PARTIDAS'!C161","v":0},{"$f":"'[1]ENTRADA PARTIDAS'!H161","v":"Pareja 78"},null,{"$f":"'[1]ENTRADA PARTIDAS'!F161","v":""},{"$f":"'[1]ENTRADA PARTIDAS'!G161","v":0},null,null,null,null,null,null,0,0]
[null,{"$f":"'[1]ENTRADA PARTIDAS'!B162","v":157},{"$f":"'[1]ENTRADA PARTIDAS'!C162","v":0},{"$f":"'[1]ENTRADA PARTIDAS'!H162","v":"Pareja 79"},null,{"$f":"'[1]ENTRADA PARTIDAS'!F162","v":""},{"$f":"'[1]ENTRADA PARTIDAS'!G162","v":0},null,null,null,null,null,null,0,0,{"$f":"SUM(O161:O162)","v":0}]
[null,{"$f":"'[1]ENTRADA PARTIDAS'!B163","v":158},{"$f":"'[1]ENTRADA PARTIDAS'!C163","v":0},{"$f":"'[1]ENTRADA PARTIDAS'!H163","v":"Pareja 79"},null,{"$f":"'[1]ENTRADA PARTIDAS'!F163","v":""},{"$f":"'[1]ENTRADA PARTIDAS'!G163","v":0},null,null,null,null,null,null,0,0]
[null,{"$f":"'[1]ENTRADA PARTIDAS'!B164","v":159},{"$f":"'[1]ENTRADA PARTIDAS'!C164","v":0},{"$f":"'[1]ENTRADA PARTIDAS'!H164","v":"Pareja 80"},null,{"$f":"'[1]ENTRADA PARTIDAS'!F164","v":""},{"$f":"'[1]ENTRADA PARTIDAS'!G164","v":0},null,null,null,null,null,null,0,0,{"$f":"SUM(O163:O164)","v":0}]
[null,{"$f":"'[1]ENTRADA PARTIDAS'!B165","v":160},{"$f":"'[1]ENTRADA PARTIDAS'!C165","v":0},{"$f":"'[1]ENTRADA PARTIDAS'!H165","v":"Pareja 80"},null,{"$f":"'[1]ENTRADA PARTIDAS'!F165","v":""},{"$f":"'[1]ENTRADA PARTIDAS'!G165","v":0},null,null,null,null,null,null,{"$f":"SUM(H164:M164)","v":0},0]
[null,{"$f":"'[1]ENTRADA PARTIDAS'!B166","v":161},{"$f":"'[1]ENTRADA PARTIDAS'!C166","v":0},{"$f":"'[1]ENTRADA PARTIDAS'!H166","v":"Pareja 81"},null,{"$f":"'[1]ENTRADA PARTIDAS'!F166","v":""},{"$f":"'[1]ENTRADA PARTIDAS'!G166","v":0},null,null,null,null,null,null,0,0,{"$f":"SUM(O165:O166)","v":0}]
[null,{"$f":"'[1]ENTRADA PARTIDAS'!B167","v":162},{"$f":"'[1]ENTRADA PARTIDAS'!C167","v":0},{"$f":"'[1]ENTRADA PARTIDAS'!H167","v":"Pareja 81"},null,{"$f":"'[1]ENTRADA PARTIDAS'!F167","v":""},{"$f":"'[1]ENTRADA PARTIDAS'!G167","v":0},null,null,null,null,null,null,0,0]
[null,{"$f":"'[1]ENTRADA PARTIDAS'!B168","v":163},{"$f":"'[1]ENTRADA PARTIDAS'!C168","v":0},{"$f":"'[1]ENTRADA PARTIDAS'!H168","v":"Pareja 82"},null,{"$f":"'[1]ENTRADA PARTIDAS'!F168","v":""},{"$f":"'[1]ENTRADA PARTIDAS'!G168","v":0},null,null,null,null,null,null,0,0,{"$f":"SUM(O167:O168)","v":0}]
[null,{"$f":"'[1]ENTRADA PARTIDAS'!B169","v":164},{"$f":"'[1]ENTRADA PARTIDAS'!C169","v":0},{"$f":"'[1]ENTRADA PARTIDAS'!H169","v":"Pareja 82"},null,{"$f":"'[1]ENTRADA PARTIDAS'!F169","v":""},{"$f":"'[1]ENTRADA PARTIDAS'!G169","v":0},null,null,null,null,null,null,0,0]
[null,{"$f":"'[1]ENTRADA PARTIDAS'!B170","v":165},{"$f":"'[1]ENTRADA PARTIDAS'!C170","v":0},{"$f":"'[1]ENTRADA PARTIDAS'!H170","v":"Pareja 83"},null,{"$f":"'[1]ENTRADA PARTIDAS'!F170","v":""},{"$f":"'[1]ENTRADA PARTIDAS'!G170","v":0},null,null,null,null,null,null,0,0,{"$f":"SUM(O169:O170)","v":0}]
[null,{"$f":"'[1]ENTRADA PARTIDAS'!B171","v":166},{"$f":"'[1]ENTRADA PARTIDAS'!C171","v":0},{"$f":"'[1]ENTRADA PARTIDAS'!H171","v":"Pareja 83"},null,{"$f":"'[1]ENTRADA PARTIDAS'!F171","v":""},{"$f":"'[1]ENTRADA PARTIDAS'!G171","v":0},null,null,null,null,null,null,0,0]
[null,{"$f":"'[1]ENTRADA PARTIDAS'!B172","v":167},{"$f":"'[1]ENTRADA PARTIDAS'!C172","v":0},{"$f":"'[1]ENTRADA PARTIDAS'!H172","v":"Pareja 84"},null,{"$f":"'[1]ENTRADA PARTIDAS'!F172","v":""},{"$f":"'[1]ENTRADA PARTIDAS'!G172","v":0},null,null,null,null,null,null,0,0,{"$f":"SUM(O171:O172)","v":0}]
[null,{"$f":"'[1]ENTRADA PARTIDAS'!B173","v":168},{"$f":"'[1]ENTRADA PARTIDAS'!C173","v":0},{"$f":"'[1]ENTRADA PARTIDAS'!H173","v":"Pareja 84"},null,{"$f":"'[1]ENTRADA PARTIDAS'!F173","v":""},{"$f":"'[1]ENTRADA PARTIDAS'!G173","v":0},null,null,null,null,null,null,0,0]
[null,{"$f":"'[1]ENTRADA PARTIDAS'!B174","v":169},{"$f":"'[1]ENTRADA PARTIDAS'!C174","v":0},{"$f":"'[1]ENTRADA PARTIDAS'!H174","v":"Pareja 85"},null,{"$f":"'[1]ENTRADA PARTIDAS'!F174","v":""},{"$f":"'[1]ENTRADA PARTIDAS'!G174","v":0},null,null,null,null,null,null,0,0,{"$f":"SUM(O173:O174)","v":0}]
[null,{"$f":"'[1]ENTRADA PARTIDAS'!B175","v":170},{"$f":"'[1]ENTRADA PARTIDAS'!C175","v":0},{"$f":"'[1]ENTRADA PARTIDAS'!H175","v":"Pareja 85"},null,{"$f":"'[1]ENTRADA PARTIDAS'!F175","v":""},{"$f":"'[1]ENTRADA PARTIDAS'!G175","v":0},null,null,null,null,null,null,0,0]
[null,{"$f":"'[1]ENTRADA PARTIDAS'!B176","v":171},{"$f":"'[1]ENTRADA PARTIDAS'!C176","v":0},{"$f":"'[1]ENTRADA PARTIDAS'!H176","v":"Pareja 86"},null,{"$f":"'[1]ENTRADA PARTIDAS'!F176","v":""},{"$f":"'[1]ENTRADA PARTIDAS'!G176","v":0},null,null,null,null,null,null,0,0,{"$f":"SUM(O175:O176)","v":0}]
[null,{"$f":"'[1]ENTRADA PARTIDAS'!B177","v":172},{"$f":"'[1]ENTRADA PARTIDAS'!C177","v":0},{"$f":"'[1]ENTRADA PARTIDAS'!H177","v":"Pareja 86"},null,{"$f":"'[1]ENTRADA PARTIDAS'!F177","v":""},{"$f":"'[1]ENTRADA PARTIDAS'!G177","v":0},null,null,null,null,null,null,0,0]
[null,{"$f":"'[1]ENTRADA PARTIDAS'!B178","v":173},{"$f":"'[1]ENTRADA PARTIDAS'!C178","v":0},{"$f":"'[1]ENTRADA PARTIDAS'!H178","v":"Pareja 87"},null,{"$f":"'[1]ENTRADA PARTIDAS'!F178","v":""},{"$f":"'[1]ENTRADA PARTIDAS'!G178","v":0},null,null,null,null,null,null,0,0,{"$f":"SUM(O177:O178)","v":0}]
[null,{"$f":"'[1]ENTRADA PARTIDAS'!B179","v":174},{"$f":"'[1]ENTRADA PARTIDAS'!C179","v":0},{"$f":"'[1]ENTRADA PARTIDAS'!H179","v":"Pareja 87"},null,{"$f":"'[1]ENTRADA PARTIDAS'!F179","v":""},{"$f":"'[1]ENTRADA PARTIDAS'!G179","v":0},null,null,null,null,null,null,0,0]
[null,{"$f":"'[1]ENTRADA PARTIDAS'!B180","v":175},{"$f":"'[1]ENTRADA PARTIDAS'!C180","v":0},{"$f":"'[1]ENTRADA PARTIDAS'!H180","v":"Pareja 88"},null,{"$f":"'[1]ENTRADA PARTIDAS'!F180","v":""},{"$f":"'[1]ENTRADA PARTIDAS'!G180","v":0},null,null,null,null,null,null,0,0,{"$f":"SUM(O179:O180)","v":0}]
[null,{"$f":"'[1]ENTRADA PARTIDAS'!B181","v":176},{"$f":"'[1]ENTRADA PARTIDAS'!C181","v":0},{"$f":"'[1]ENTRADA PARTIDAS'!H181","v":"Pareja 88"},null,{"$f":"'[1]ENTRADA PARTIDAS'!F181","v":""},{"$f":"'[1]ENTRADA PARTIDAS'!G181","v":0},null,null,null,null,null,null,0,0]
[null,{"$f":"'[1]ENTRADA PARTIDAS'!B182","v":177},{"$f":"'[1]ENTRADA PARTIDAS'!C182","v":0},{"$f":"'[1]ENTRADA PARTIDAS'!H182","v":"Pareja 89"},null,{"$f":"'[1]ENTRADA PARTIDAS'!F182","v":""},{"$f":"'[1]ENTRADA PARTIDAS'!G182","v":0},null,null,null,null,null,null,0,0,{"$f":"SUM(O181:O182)","v":0}]
[null,{"$f":"'[1]ENTRADA PARTIDAS'!B183","v":178},{"$f":"'[1]ENTRADA PARTIDAS'!C183","v":0},{"$f":"'[1]ENTRADA PARTIDAS'!H183","v":"Pareja 89"},null,{"$f":"'[1]ENTRADA PARTIDAS'!F183","v":""},{"$f":"'[1]ENTRADA PARTIDAS'!G183","v":0},null,null,null,null,null,null,0,0]
[null,{"$f":"'[1]ENTRADA PARTIDAS'!B184","v":179},{"$f":"'[1]ENTRADA PARTIDAS'!C184","v":0},{"$f":"'[1]ENTRADA PARTIDAS'!H184","v":"Pareja 90"},null,{"$f":"'[1]ENTRADA PARTIDAS'!F184","v":""},{"$f":"'[1]ENTRADA PARTIDAS'!G184","v":0},null,null,null,null,null,null,0,0,{"$f":"SUM(O183:O184)","v":0}]
[null,{"$f":"'[1]ENTRADA PARTIDAS'!B185","v":180},{"$f":"'[1]ENTRADA PARTIDAS'!C185","v":0},{"$f":"'[1]ENTRADA PARTIDAS'!H185","v":"Pareja 90"},null,{"$f":"'[1]ENTRADA PARTIDAS'!F185","v":""},{"$f":"'[1]ENTRADA PARTIDAS'!G185","v":0},null,null,null,null,null,null,0,0]
[null,{"$f":"'[1]ENTRADA PARTIDAS'!B186","v":181},{"$f":"'[1]ENTRADA PARTIDAS'!C186","v":0},{"$f":"'[1]ENTRADA PARTIDAS'!H186","v":"Pareja 91"},null,{"$f":"'[1]ENTRADA PARTIDAS'!F186","v":""},{"$f":"'[1]ENTRADA PARTIDAS'!G186","v":0},null,null,null,null,null,null,0,0,{"$f":"SUM(O185:O186)","v":0}]
[null,{"$f":"'[1]ENTRADA PARTIDAS'!B187","v":182},{"$f":"'[1]ENTRADA PARTIDAS'!C187","v":0},{"$f":"'[1]ENTRADA PARTIDAS'!H187","v":"Pareja 91"},null,{"$f":"'[1]ENTRADA PARTIDAS'!F187","v":""},{"$f":"'[1]ENTRADA PARTIDAS'!G187","v":0},null,null,null,null,null,null,0,0]
[null,{"$f":"'[1]ENTRADA PARTIDAS'!B188","v":183},{"$f":"'[1]ENTRADA PARTIDAS'!C188","v":0},{"$f":"'[1]ENTRADA PARTIDAS'!H188","v":"Pareja 92"},null,{"$f":"'[1]ENTRADA PARTIDAS'!F188","v":""},{"$f":"'[1]ENTRADA PARTIDAS'!G188","v":0},null,null,null,null,null,null,0,0,{"$f":"SUM(O187:O188)","v":0}]
[null,{"$f":"'[1]ENTRADA PARTIDAS'!B189","v":184},{"$f":"'[1]ENTRADA PARTIDAS'!C189","v":0},{"$f":"'[1]ENTRADA PARTIDAS'!H189","v":"Pareja 92"},null,{"$f":"'[1]ENTRADA PARTIDAS'!F189","v":""},{"$f":"'[1]ENTRADA PARTIDAS'!G189","v":0},null,null,null,null,null,null,0,0]
[null,{"$f":"'[1]ENTRADA PARTIDAS'!B190","v":185},{"$f":"'[1]ENTRADA PARTIDAS'!C190","v":0},{"$f":"'[1]ENTRADA PARTIDAS'!H190","v":"Pareja 93"},null,{"$f":"'[1]ENTRADA PARTIDAS'!F190","v":""},{"$f":"'[1]ENTRADA PARTIDAS'!G190","v":0},null,null,null,null,null,null,0,0,{"$f":"SUM(O189:O190)","v":0}]
[null,{"$f":"'[1]ENTRADA PARTIDAS'!B191","v":186},{"$f":"'[1]ENTRADA PARTIDAS'!C191","v":0},{"$f":"'[1]ENTRADA PARTIDAS'!H191","v":"Pareja 93"},null,{"$f":"'[1]ENTRADA PARTIDAS'!F191","v":""},{"$f":"'[1]ENTRADA PARTIDAS'!G191","v":0},null,null,null,null,null,null,0,0]
[null,{"$f":"'[1]ENTRADA PARTIDAS'!B192","v":187},{"$f":"'[1]ENTRADA PARTIDAS'!C192","v":0},{"$f":"'[1]ENTRADA PARTIDAS'!H192","v":"Pareja 94"},null,{"$f":"'[1]ENTRADA PARTIDAS'!F192","v":""},{"$f":"'[1]ENTRADA PARTIDAS'!G192","v":0},null,null,null,null,null,null,0,0,{"$f":"SUM(O191:O192)","v":0}]
[null,{"$f":"'[1]ENTRADA PARTIDAS'!B193","v":188},{"$f":"'[1]ENTRADA PARTIDAS'!C193","v":0},{"$f":"'[1]ENTRADA PARTIDAS'!H193","v":"Pareja 94"},null,{"$f":"'[1]ENTRADA PARTIDAS'!F193","v":""},{"$f":"'[1]ENTRADA PARTIDAS'!G193","v":0},null,null,null,null,null,null,0,0]
[null,{"$f":"'[1]ENTRADA PARTIDAS'!B194","v":189},{"$f":"'[1]ENTRADA PARTIDAS'!C194","v":0},{"$f":"'[1]ENTRADA PARTIDAS'!H194","v":"Pareja 95"},null,{"$f":"'[1]ENTRADA PARTIDAS'!F194","v":""},{"$f":"'[1]ENTRADA PARTIDAS'!G194","v":0},null,null,null,null,null,null,0,0,{"$f":"SUM(O193:O194)","v":0}]
[null,{"$f":"'[1]ENTRADA PARTIDAS'!B195","v":190},{"$f":"'[1]ENTRADA PARTIDAS'!C195","v":0},{"$f":"'[1]ENTRADA PARTIDAS'!H195","v":"Pareja 95"},null,{"$f":"'[1]ENTRADA PARTIDAS'!F195","v":""},{"$f":"'[1]ENTRADA PARTIDAS'!G195","v":0},null,null,null,null,null,null,0,0]
[null,{"$f":"'[1]ENTRADA PARTIDAS'!B196","v":191},{"$f":"'[1]ENTRADA PARTIDAS'!C196","v":0},{"$f":"'[1]ENTRADA PARTIDAS'!H196","v":"Pareja 96"},null,{"$f":"'[1]ENTRADA PARTIDAS'!F196","v":""},{"$f":"'[1]ENTRADA PARTIDAS'!G196","v":0},null,null,null,null,null,null,0,0,{"$f":"SUM(O195:O196)","v":0}]
[null,{"$f":"'[1]ENTRADA PARTIDAS'!B197","v":192},{"$f":"'[1]ENTRADA PARTIDAS'!C197","v":0},{"$f":"'[1]ENTRADA PARTIDAS'!H197","v":"Pareja 96"},null,{"$f":"'[1]ENTRADA PARTIDAS'!F197","v":""},{"$f":"'[1]ENTRADA PARTIDAS'!G197","v":0},null,null,null,null,null,null,0,0]
[null,{"$f":"'[1]ENTRADA PARTIDAS'!B198","v":193},{"$f":"'[1]ENTRADA PARTIDAS'!C198","v":0},{"$f":"'[1]ENTRADA PARTIDAS'!H198","v":"Pareja 97"},null,{"$f":"'[1]ENTRADA PARTIDAS'!F198","v":""},{"$f":"'[1]ENTRADA PARTIDAS'!G198","v":0},null,null,null,null,null,null,0,{"$f":"N197+COUNT(H197:M197)*G197","v":0},{"$f":"SUM(O197:O198)","v":0}]
[null,{"$f":"'[1]ENTRADA PARTIDAS'!B199","v":194},{"$f":"'[1]ENTRADA PARTIDAS'!C199","v":0},{"$f":"'[1]ENTRADA PARTIDAS'!H199","v":"Pareja 97"},null,{"$f":"'[1]ENTRADA PARTIDAS'!F199","v":""},{"$f":"'[1]ENTRADA PARTIDAS'!G199","v":0},null,null,null,null,null,null,0,0]
[null,{"$f":"'[1]ENTRADA PARTIDAS'!B200","v":195},{"$f":"'[1]ENTRADA PARTIDAS'!C200","v":0},{"$f":"'[1]ENTRADA PARTIDAS'!H200","v":"Pareja 98"},null,{"$f":"'[1]ENTRADA PARTIDAS'!F200","v":""},{"$f":"'[1]ENTRADA PARTIDAS'!G200","v":0},null,null,null,null,null,null,0,0,{"$f":"SUM(O199:O200)","v":0}]
[null,{"$f":"'[1]ENTRADA PARTIDAS'!B201","v":196},{"$f":"'[1]ENTRADA PARTIDAS'!C201","v":0},{"$f":"'[1]ENTRADA PARTIDAS'!H201","v":"Pareja 98"},null,{"$f":"'[1]ENTRADA PARTIDAS'!F201","v":""},{"$f":"'[1]ENTRADA PARTIDAS'!G201","v":0},null,null,null,null,null,null,0,0]
[null,{"$f":"'[1]ENTRADA PARTIDAS'!B202","v":197},{"$f":"'[1]ENTRADA PARTIDAS'!C202","v":0},{"$f":"'[1]ENTRADA PARTIDAS'!H202","v":"Pareja 99"},null,{"$f":"'[1]ENTRADA PARTIDAS'!F202","v":""},{"$f":"'[1]ENTRADA PARTIDAS'!G202","v":0},null,null,null,null,null,null,0,0,{"$f":"SUM(O201:O202)","v":0}]
[null,{"$f":"'[1]ENTRADA PARTIDAS'!B203","v":198},{"$f":"'[1]ENTRADA PARTIDAS'!C203","v":0},{"$f":"'[1]ENTRADA PARTIDAS'!H203","v":"Pareja 99"},null,{"$f":"'[1]ENTRADA PARTIDAS'!F203","v":""},{"$f":"'[1]ENTRADA PARTIDAS'!G203","v":0},null,null,null,null,null,null,0,0]
[null,{"$f":"'[1]ENTRADA PARTIDAS'!B204","v":199},{"$f":"'[1]ENTRADA PARTIDAS'!C204","v":0},{"$f":"'[1]ENTRADA PARTIDAS'!H204","v":"Pareja 100"},null,{"$f":"'[1]ENTRADA PARTIDAS'!F204","v":""},{"$f":"'[1]ENTRADA PARTIDAS'!G204","v":0},null,null,null,null,null,null,0,0,{"$f":"SUM(O203:O204)","v":0}]
[null,{"$f":"'[1]ENTRADA PARTIDAS'!B205","v":200},{"$f":"'[1]ENTRADA PARTIDAS'!C205","v":0},{"$f":"'[1]ENTRADA PARTIDAS'!H205","v":"Pareja 100"},null,{"$f":"'[1]ENTRADA PARTIDAS'!F205","v":""},{"$f":"'[1]ENTRADA PARTIDAS'!G205","v":0},null,null,null,null,null,null,0,0]
[null,{"$f":"'[1]ENTRADA PARTIDAS'!B206","v":201},{"$f":"'[1]ENTRADA PARTIDAS'!C206","v":0},{"$f":"'[1]ENTRADA PARTIDAS'!H206","v":"Pareja 101"},null,{"$f":"'[1]ENTRADA PARTIDAS'!F206","v":""},{"$f":"'[1]ENTRADA PARTIDAS'!G206","v":0},null,null,null,null,null,null,0,0,{"$f":"SUM(O205:O206)","v":0}]
[null,{"$f":"'[1]ENTRADA PARTIDAS'!B207","v":202},{"$f":"'[1]ENTRADA PARTIDAS'!C207","v":0},{"$f":"'[1]ENTRADA PARTIDAS'!H207","v":"Pareja 101"},null,{"$f":"'[1]ENTRADA PARTIDAS'!F207","v":""},{"$f":"'[1]ENTRADA PARTIDAS'!G207","v":0},null,null,null,null,null,null,0,0]
[null,{"$f":"'[1]ENTRADA PARTIDAS'!B208","v":203},{"$f":"'[1]ENTRADA PARTIDAS'!C208","v":0},{"$f":"'[1]ENTRADA PARTIDAS'!H208","v":"Pareja 102"},null,{"$f":"'[1]ENTRADA PARTIDAS'!F208","v":""},{"$f":"'[1]ENTRADA PARTIDAS'!G208","v":0},null,null,null,null,null,null,0,0,{"$f":"SUM(O207:O208)","v":0}]
[null,{"$f":"'[1]ENTRADA PARTIDAS'!B209","v":204},{"$f":"'[1]ENTRADA PARTIDAS'!C209","v":0},{"$f":"'[1]ENTRADA PARTIDAS'!H209","v":"Pareja 102"},null,{"$f":"'[1]ENTRADA PARTIDAS'!F209","v":""},{"$f":"'[1]ENTRADA PARTIDAS'!G209","v":0},null,null,null,null,null,null,0,0]
[null,{"$f":"'[1]ENTRADA PARTIDAS'!B210","v":205},{"$f":"'[1]ENTRADA PARTIDAS'!C210","v":0},{"$f":"'[1]ENTRADA PARTIDAS'!H210","v":"Pareja 103"},null,{"$f":"'[1]ENTRADA PARTIDAS'!F210","v":""},{"$f":"'[1]ENTRADA PARTIDAS'!G210","v":0},null,null,null,null,null,null,0,0,{"$f":"SUM(O209:O210)","v":0}]
[null,{"$f":"'[1]ENTRADA PARTIDAS'!B211","v":206},{"$f":"'[1]ENTRADA PARTIDAS'!C211","v":0},{"$f":"'[1]ENTRADA PARTIDAS'!H211","v":"Pareja 103"},null,{"$f":"'[1]ENTRADA PARTIDAS'!F211","v":""},{"$f":"'[1]ENTRADA PARTIDAS'!G211","v":0},null,null,null,null,null,null,0,0]
[null,{"$f":"'[1]ENTRADA PARTIDAS'!B212","v":207},{"$f":"'[1]ENTRADA PARTIDAS'!C212","v":0},{"$f":"'[1]ENTRADA PARTIDAS'!H212","v":"Pareja 104"},null,{"$f":"'[1]ENTRADA PARTIDAS'!F212","v":""},{"$f":"'[1]ENTRADA PARTIDAS'!G212","v":0},null,null,null,null,null,null,0,0,{"$f":"SUM(O211:O212)","v":0}]
[null,{"$f":"'[1]ENTRADA PARTIDAS'!B213","v":208},{"$f":"'[1]ENTRADA PARTIDAS'!C213","v":0},{"$f":"'[1]ENTRADA PARTIDAS'!H213","v":"Pareja 104"},null,{"$f":"'[1]ENTRADA PARTIDAS'!F213","v":""},{"$f":"'[1]ENTRADA PARTIDAS'!G213","v":0},null,null,null,null,null,null,0,0]
[null,{"$f":"'[1]ENTRADA PARTIDAS'!B214","v":209},{"$f":"'[1]ENTRADA PARTIDAS'!C214","v":0},{"$f":"'[1]ENTRADA PARTIDAS'!H214","v":"Pareja 105"},null,{"$f":"'[1]ENTRADA PARTIDAS'!F214","v":""},{"$f":"'[1]ENTRADA PARTIDAS'!G214","v":0},null,null,null,null,null,null,0,0,{"$f":"SUM(O213:O214)","v":0}]
[null,{"$f":"'[1]ENTRADA PARTIDAS'!B215","v":210},{"$f":"'[1]ENTRADA PARTIDAS'!C215","v":0},{"$f":"'[1]ENTRADA PARTIDAS'!H215","v":"Pareja 105"},null,{"$f":"'[1]ENTRADA PARTIDAS'!F215","v":""},{"$f":"'[1]ENTRADA PARTIDAS'!G215","v":0},null,null,null,null,null,null,0,0]
[null,{"$f":"'[1]ENTRADA PARTIDAS'!B216","v":211},{"$f":"'[1]ENTRADA PARTIDAS'!C216","v":0},{"$f":"'[1]ENTRADA PARTIDAS'!H216","v":"Pareja 106"},null,{"$f":"'[1]ENTRADA PARTIDAS'!F216","v":""},{"$f":"'[1]ENTRADA PARTIDAS'!G216","v":0},null,null,null,null,null,null,0,0,{"$f":"SUM(O215:O216)","v":0}]
[null,{"$f":"'[1]ENTRADA PARTIDAS'!B217","v":212},{"$f":"'[1]ENTRADA PARTIDAS'!C217","v":0},{"$f":"'[1]ENTRADA PARTIDAS'!H217","v":"Pareja 106"},null,{"$f":"'[1]ENTRADA PARTIDAS'!F217","v":""},{"$f":"'[1]ENTRADA PARTIDAS'!G217","v":0},null,null,null,null,null,null,0,0]
[null,{"$f":"'[1]ENTRADA PARTIDAS'!B218","v":213},{"$f":"'[1]ENTRADA PARTIDAS'!C218","v":0},{"$f":"'[1]ENTRADA PARTIDAS'!H218","v":"Pareja 107"},null,{"$f":"'[1]ENTRADA PARTIDAS'!F218","v":""},{"$f":"'[1]ENTRADA PARTIDAS'!G218","v":0},null,null,null,null,null,null,0,0,{"$f":"SUM(O217:O218)","v":0}]
[null,{"$f":"'[1]ENTRADA PARTIDAS'!B219","v":214},{"$f":"'[1]ENTRADA PARTIDAS'!C219","v":0},{"$f":"'[1]ENTRADA PARTIDAS'!H219","v":"Pareja 107"},null,{"$f":"'[1]ENTRADA PARTIDAS'!F219","v":""},{"$f":"'[1]ENTRADA PARTIDAS'!G219","v":0},null,null,null,null,null,null,0,0]
[null,{"$f":"'[1]ENTRADA PARTIDAS'!B220","v":215},{"$f":"'[1]ENTRADA PARTIDAS'!C220","v":0},{"$f":"'[1]ENTRADA PARTIDAS'!H220","v":"Pareja 108"},null,{"$f":"'[1]ENTRADA PARTIDAS'!F220","v":""},{"$f":"'[1]ENTRADA PARTIDAS'!G220","v":0},null,null,null,null,null,null,0,0,{"$f":"SUM(O219:O220)","v":0}]
[null,{"$f":"'[1]ENTRADA PARTIDAS'!B221","v":216},{"$f":"'[1]ENTRADA PARTIDAS'!C221","v":0},{"$f":"'[1]ENTRADA PARTIDAS'!H221","v":"Pareja 108"},null,{"$f":"'[1]ENTRADA PARTIDAS'!F221","v":""},{"$f":"'[1]ENTRADA PARTIDAS'!G221","v":0},null,null,null,null,null,null,0,0]
[null,{"$f":"'[1]ENTRADA PARTIDAS'!B222","v":217},{"$f":"'[1]ENTRADA PARTIDAS'!C222","v":0},{"$f":"'[1]ENTRADA PARTIDAS'!H222","v":"Pareja 109"},null,{"$f":"'[1]ENTRADA PARTIDAS'!F222","v":""},{"$f":"'[1]ENTRADA PARTIDAS'!G222","v":0},null,null,null,null,null,null,0,0,{"$f":"SUM(O221:O222)","v":0}]
[null,{"$f":"'[1]ENTRADA PARTIDAS'!B223","v":218},{"$f":"'[1]ENTRADA PARTIDAS'!C223","v":0},{"$f":"'[1]ENTRADA PARTIDAS'!H223","v":"Pareja 109"},null,{"$f":"'[1]ENTRADA PARTIDAS'!F223","v":""},{"$f":"'[1]ENTRADA PARTIDAS'!G223","v":0},null,null,null,null,null,null,0,0]
[null,{"$f":"'[1]ENTRADA PARTIDAS'!B224","v":219},{"$f":"'[1]ENTRADA PARTIDAS'!C224","v":0},{"$f":"'[1]ENTRADA PARTIDAS'!H224","v":"Pareja 110"},null,{"$f":"'[1]ENTRADA PARTIDAS'!F224","v":""},{"$f":"'[1]ENTRADA PARTIDAS'!G224","v":0},null,null,null,null,null,null,0,0,{"$f":"SUM(O223:O224)","v":0}]
[null,{"$f":"'[1]ENTRADA PARTIDAS'!B225","v":220},{"$f":"'[1]ENTRADA PARTIDAS'!C225","v":0},{"$f":"'[1]ENTRADA PARTIDAS'!H225","v":"Pareja 110"},null,{"$f":"'[1]ENTRADA PARTIDAS'!F225","v":""},{"$f":"'[1]ENTRADA PARTIDAS'!G225","v":0},null,null,null,null,null,null,0,0]
[null,{"$f":"'[1]ENTRADA PARTIDAS'!B226","v":221},{"$f":"'[1]ENTRADA PARTIDAS'!C226","v":0},{"$f":"'[1]ENTRADA PARTIDAS'!H226","v":"Pareja 111"},null,{"$f":"'[1]ENTRADA PARTIDAS'!F226","v":""},{"$f":"'[1]ENTRADA PARTIDAS'!G226","v":0},null,null,null,null,null,null,0,0,{"$f":"SUM(O225:O226)","v":0}]
[null,{"$f":"'[1]ENTRADA PARTIDAS'!B227","v":222},{"$f":"'[1]ENTRADA PARTIDAS'!C227","v":0},{"$f":"'[1]ENTRADA PARTIDAS'!H227","v":"Pareja 111"},null,{"$f":"'[1]ENTRADA PARTIDAS'!F227","v":""},{"$f":"'[1]ENTRADA PARTIDAS'!G227","v":0},null,null,null,null,null,null,0,0]
[null,{"$f":"'[1]ENTRADA PARTIDAS'!B228","v":223},{"$f":"'[1]ENTRADA PARTIDAS'!C228","v":0},{"$f":"'[1]ENTRADA PARTIDAS'!H228","v":"Pareja 112"},null,{"$f":"'[1]ENTRADA PARTIDAS'!F228","v":""},{"$f":"'[1]ENTRADA PARTIDAS'!G228","v":0},null,null,null,null,null,null,0,0,{"$f":"SUM(O227:O228)","v":0}]
[null,{"$f":"'[1]ENTRADA PARTIDAS'!B229","v":224},{"$f":"'[1]ENTRADA PARTIDAS'!C229","v":0},{"$f":"'[1]ENTRADA PARTIDAS'!H229","v":"Pareja 112"},null,{"$f":"'[1]ENTRADA PARTIDAS'!F229","v":""},{"$f":"'[1]ENTRADA PARTIDAS'!G229","v":0},null,null,null,null,null,null,{"$f":"SUM(H228:M228)","v":0},0]
[null,{"$f":"'[1]ENTRADA PARTIDAS'!B230","v":225},{"$f":"'[1]ENTRADA PARTIDAS'!C230","v":0},{"$f":"'[1]ENTRADA PARTIDAS'!H230","v":"Pareja 113"},null,{"$f":"'[1]ENTRADA PARTIDAS'!F230","v":""},{"$f":"'[1]ENTRADA PARTIDAS'!G230","v":0},null,null,null,null,null,null,0,0,{"$f":"SUM(O229:O230)","v":0}]
[null,{"$f":"'[1]ENTRADA PARTIDAS'!B231","v":226},{"$f":"'[1]ENTRADA PARTIDAS'!C231","v":0},{"$f":"'[1]ENTRADA PARTIDAS'!H231","v":"Pareja 113"},null,{"$f":"'[1]ENTRADA PARTIDAS'!F231","v":""},{"$f":"'[1]ENTRADA PARTIDAS'!G231","v":0},null,null,null,null,null,null,0,0]
[null,{"$f":"'[1]ENTRADA PARTIDAS'!B232","v":227},{"$f":"'[1]ENTRADA PARTIDAS'!C232","v":0},{"$f":"'[1]ENTRADA PARTIDAS'!H232","v":"Pareja 114"},null,{"$f":"'[1]ENTRADA PARTIDAS'!F232","v":""},{"$f":"'[1]ENTRADA PARTIDAS'!G232","v":0},null,null,null,null,null,null,0,0,{"$f":"SUM(O231:O232)","v":0}]
[null,{"$f":"'[1]ENTRADA PARTIDAS'!B233","v":228},{"$f":"'[1]ENTRADA PARTIDAS'!C233","v":0},{"$f":"'[1]ENTRADA PARTIDAS'!H233","v":"Pareja 114"},null,{"$f":"'[1]ENTRADA PARTIDAS'!F233","v":""},{"$f":"'[1]ENTRADA PARTIDAS'!G233","v":0},null,null,null,null,null,null,0,0]
[null,{"$f":"'[1]ENTRADA PARTIDAS'!B234","v":229},{"$f":"'[1]ENTRADA PARTIDAS'!C234","v":0},{"$f":"'[1]ENTRADA PARTIDAS'!H234","v":"Pareja 115"},null,{"$f":"'[1]ENTRADA PARTIDAS'!F234","v":""},{"$f":"'[1]ENTRADA PARTIDAS'!G234","v":0},null,null,null,null,null,null,0,0,{"$f":"SUM(O233:O234)","v":0}]
[null,{"$f":"'[1]ENTRADA PARTIDAS'!B235","v":230},{"$f":"'[1]ENTRADA PARTIDAS'!C235","v":0},{"$f":"'[1]ENTRADA PARTIDAS'!H235","v":"Pareja 115"},null,{"$f":"'[1]ENTRADA PARTIDAS'!F235","v":""},{"$f":"'[1]ENTRADA PARTIDAS'!G235","v":0},null,null,null,null,null,null,0,0]
[null,{"$f":"'[1]ENTRADA PARTIDAS'!B236","v":231},{"$f":"'[1]ENTRADA PARTIDAS'!C236","v":0},{"$f":"'[1]ENTRADA PARTIDAS'!H236","v":"Pareja 116"},null,{"$f":"'[1]ENTRADA PARTIDAS'!F236","v":""},{"$f":"'[1]ENTRADA PARTIDAS'!G236","v":0},null,null,null,null,null,null,0,0,{"$f":"SUM(O235:O236)","v":0}]
[null,{"$f":"'[1]ENTRADA PARTIDAS'!B237","v":232},{"$f":"'[1]ENTRADA PARTIDAS'!C237","v":0},{"$f":"'[1]ENTRADA PARTIDAS'!H237","v":"Pareja 116"},null,{"$f":"'[1]ENTRADA PARTIDAS'!F237","v":""},{"$f":"'[1]ENTRADA PARTIDAS'!G237","v":0},null,null,null,null,null,null,0,0]
[null,{"$f":"'[1]ENTRADA PARTIDAS'!B238","v":233},{"$f":"'[1]ENTRADA PARTIDAS'!C238","v":0},{"$f":"'[1]ENTRADA PARTIDAS'!H238","v":"Pareja 117"},null,{"$f":"'[1]ENTRADA PARTIDAS'!F238","v":""},{"$f":"'[1]ENTRADA PARTIDAS'!G238","v":0},null,null,null,null,null,null,0,0,{"$f":"SUM(O237:O238)","v":0}]
[null,{"$f":"'[1]ENTRADA PARTIDAS'!B239","v":234},{"$f":"'[1]ENTRADA PARTIDAS'!C239","v":0},{"$f":"'[1]ENTRADA PARTIDAS'!H239","v":"Pareja 117"},null,{"$f":"'[1]ENTRADA PARTIDAS'!F239","v":""},{"$f":"'[1]ENTRADA PARTIDAS'!G239","v":0},null,null,null,null,null,null,0,0]
[null,{"$f":"'[1]ENTRADA PARTIDAS'!B240","v":235},{"$f":"'[1]ENTRADA PARTIDAS'!C240","v":0},{"$f":"'[1]ENTRADA PARTIDAS'!H240","v":"Pareja 118"},null,{"$f":"'[1]ENTRADA PARTIDAS'!F240","v":""},{"$f":"'[1]ENTRADA PARTIDAS'!G240","v":0},null,null,null,null,null,null,0,0,{"$f":"SUM(O239:O240)","v":0}]
[null,{"$f":"'[1]ENTRADA PARTIDAS'!B241","v":236},{"$f":"'[1]ENTRADA PARTIDAS'!C241","v":0},{"$f":"'[1]ENTRADA PARTIDAS'!H241","v":"Pareja 118"},null,{"$f":"'[1]ENTRADA PARTIDAS'!F241","v":""},{"$f":"'[1]ENTRADA PARTIDAS'!G241","v":0},null,null,null,null,null,null,0,0]
[null,{"$f":"'[1]ENTRADA PARTIDAS'!B242","v":237},{"$f":"'[1]ENTRADA PARTIDAS'!C242","v":0},{"$f":"'[1]ENTRADA PARTIDAS'!H242","v":"Pareja 119"},null,{"$f":"'[1]ENTRADA PARTIDAS'!F242","v":""},{"$f":"'[1]ENTRADA PARTIDAS'!G242","v":0},null,null,null,null,null,null,0,0,{"$f":"SUM(O241:O242)","v":0}]
[null,{"$f":"'[1]ENTRADA PARTIDAS'!B243","v":238},{"$f":"'[1]ENTRADA PARTIDAS'!C243","v":0},{"$f":"'[1]ENTRADA PARTIDAS'!H243","v":"Pareja 119"},null,{"$f":"'[1]ENTRADA PARTIDAS'!F243","v":""},{"$f":"'[1]ENTRADA PARTIDAS'!G243","v":0},null,null,null,null,null,null,0,0]
[null,{"$f":"'[1]ENTRADA PARTIDAS'!B244","v":239},{"$f":"'[1]ENTRADA PARTIDAS'!C244","v":0},{"$f":"'[1]ENTRADA PARTIDAS'!H244","v":"Pareja 120"},null,{"$f":"'[1]ENTRADA PARTIDAS'!F244","v":""},{"$f":"'[1]ENTRADA PARTIDAS'!G244","v":0},null,null,null,null,null,null,0,0,{"$f":"SUM(O243:O244)","v":0}]
[null,{"$f":"'[1]ENTRADA PARTIDAS'!B245","v":240},{"$f":"'[1]ENTRADA PARTIDAS'!C245","v":0},{"$f":"'[1]ENTRADA PARTIDAS'!H245","v":"Pareja 120"},null,{"$f":"'[1]ENTRADA PARTIDAS'!F245","v":""},{"$f":"'[1]ENTRADA PARTIDAS'!G245","v":0},null,null,null,null,null,null,0,0]
[null,{"$f":"'[1]ENTRADA PARTIDAS'!B246","v":241},{"$f":"'[1]ENTRADA PARTIDAS'!C246","v":0},{"$f":"'[1]ENTRADA PARTIDAS'!H246","v":"Pareja 121"},null,{"$f":"'[1]ENTRADA PARTIDAS'!F246","v":""},{"$f":"'[1]ENTRADA PARTIDAS'!G246","v":0},null,null,null,null,null,null,0,0,{"$f":"SUM(O245:O246)","v":0}]
[null,{"$f":"'[1]ENTRADA PARTIDAS'!B247","v":242},{"$f":"'[1]ENTRADA PARTIDAS'!C247","v":0},{"$f":"'[1]ENTRADA PARTIDAS'!H247","v":"Pareja 121"},null,{"$f":"'[1]ENTRADA PARTIDAS'!F247","v":""},{"$f":"'[1]ENTRADA PARTIDAS'!G247","v":0},null,null,null,null,null,null,0,0]
[null,{"$f":"'[1]ENTRADA PARTIDAS'!B248","v":243},{"$f":"'[1]ENTRADA PARTIDAS'!C248","v":0},{"$f":"'[1]ENTRADA PARTIDAS'!H248","v":"Pareja 122"},null,{"$f":"'[1]ENTRADA PARTIDAS'!F248","v":""},{"$f":"'[1]ENTRADA PARTIDAS'!G248","v":0},null,null,null,null,null,null,0,0,{"$f":"SUM(O247:O248)","v":0}]
[null,{"$f":"'[1]ENTRADA PARTIDAS'!B249","v":244},{"$f":"'[1]ENTRADA PARTIDAS'!C249","v":0},{"$f":"'[1]ENTRADA PARTIDAS'!H249","v":"Pareja 122"},null,{"$f":"'[1]ENTRADA PARTIDAS'!F249","v":""},{"$f":"'[1]ENTRADA PARTIDAS'!G249","v":0},null,null,null,null,null,null,0,0]
[null,{"$f":"'[1]ENTRADA PARTIDAS'!B250","v":245},{"$f":"'[1]ENTRADA PARTIDAS'!C250","v":0},{"$f":"'[1]ENTRADA PARTIDAS'!H250","v":"Pareja 123"},null,{"$f":"'[1]ENTRADA PARTIDAS'!F250","v":""},{"$f":"'[1]ENTRADA PARTIDAS'!G250","v":0},null,null,null,null,null,null,0,0,{"$f":"SUM(O249:O250)","v":0}]
[null,{"$f":"'[1]ENTRADA PARTIDAS'!B251","v":246},{"$f":"'[1]ENTRADA PARTIDAS'!C251","v":0},{"$f":"'[1]ENTRADA PARTIDAS'!H251","v":"Pareja 123"},null,{"$f":"'[1]ENTRADA PARTIDAS'!F251","v":""},{"$f":"'[1]ENTRADA PARTIDAS'!G251","v":0},null,null,null,null,null,null,0,0]
[null,{"$f":"'[1]ENTRADA PARTIDAS'!B252","v":247},{"$f":"'[1]ENTRADA PARTIDAS'!C252","v":0},{"$f":"'[1]ENTRADA PARTIDAS'!H252","v":"Pareja 124"},null,{"$f":"'[1]ENTRADA PARTIDAS'!F252","v":""},{"$f":"'[1]ENTRADA PARTIDAS'!G252","v":0},null,null,null,null,null,null,0,0,{"$f":"SUM(O251:O252)","v":0}]
[null,{"$f":"'[1]ENTRADA PARTIDAS'!B253","v":248},{"$f":"'[1]ENTRADA PARTIDAS'!C253","v":0},{"$f":"'[1]ENTRADA PARTIDAS'!H253","v":"Pareja 124"},null,{"$f":"'[1]ENTRADA PARTIDAS'!F253","v":""},{"$f":"'[1]ENTRADA PARTIDAS'!G253","v":0},null,null,null,null,null,null,0,0]
[null,{"$f":"'[1]ENTRADA PARTIDAS'!B254","v":249},{"$f":"'[1]ENTRADA PARTIDAS'!C254","v":0},{"$f":"'[1]ENTRADA PARTIDAS'!H254","v":"Pareja 125"},null,{"$f":"'[1]ENTRADA PARTIDAS'!F254","v":""},{"$f":"'[1]ENTRADA PARTIDAS'!G254","v":0},null,null,null,null,null,null,0,0,{"$f":"SUM(O253:O254)","v":0}]
[null,{"$f":"'[1]ENTRADA PARTIDAS'!B255","v":250},{"$f":"'[1]ENTRADA PARTIDAS'!C255","v":0},{"$f":"'[1]ENTRADA PARTIDAS'!H255","v":"Pareja 125"},null,{"$f":"'[1]ENTRADA PARTIDAS'!F255","v":""},{"$f":"'[1]ENTRADA PARTIDAS'!G255","v":0},null,null,null,null,null,null,0,0]